BEGIN:VCALENDAR
VERSION:2.0
PRODID:-//urschard - ECPv6.5.1.4//NONSGML v1.0//EN
CALSCALE:GREGORIAN
METHOD:PUBLISH
X-WR-CALNAME:urschard
X-ORIGINAL-URL:https://bharatacademyandsciences.org
X-WR-CALDESC:Events for urschard
REFRESH-INTERVAL;VALUE=DURATION:PT1H
X-Robots-Tag:noindex
X-PUBLISHED-TTL:PT1H
BEGIN:VTIMEZONE
TZID:UTC
BEGIN:STANDARD
TZOFFSETFROM:+0000
TZOFFSETTO:+0000
TZNAME:UTC
DTSTART:20220101T000000
END:STANDARD
END:VTIMEZONE
BEGIN:VEVENT
DTSTART;TZID=UTC:20220930T090000
DTEND;TZID=UTC:20220930T153000
DTSTAMP:20260424T050357
CREATED:20220926T111102Z
LAST-MODIFIED:20220926T111102Z
UID:10000019-1664528400-1664551800@bharatacademyandsciences.org
SUMMARY:Agomoni
DESCRIPTION:
URL:https://bharatacademyandsciences.org/event/agomoni/
LOCATION:Bharat Academy & Science\, Banitabla\, Uluberia\, Howrah\, Off N.H. 16\, Banitabla\,Uluberia Howrah\, West Bengal\, 711316
END:VEVENT
BEGIN:VEVENT
DTSTART;TZID=UTC:20220807T080000
DTEND;TZID=UTC:20220810T170000
DTSTAMP:20260424T050357
CREATED:20221107T121738Z
LAST-MODIFIED:20221107T121738Z
UID:10000030-1659859200-1660150800@bharatacademyandsciences.org
SUMMARY:Bonmohotsob 2022
DESCRIPTION:
URL:https://bharatacademyandsciences.org/event/bonmohotsob-2022/
LOCATION:Bharat Academy & Science\, Banitabla\, Uluberia\, Howrah\, Off N.H. 16\, Banitabla\,Uluberia Howrah\, West Bengal\, 711316
ATTACH;FMTTYPE=image/jpeg:https://bharatacademyandsciences.org/wp-content/uploads/2022/11/0.0-scaled-1.jpg
END:VEVENT
END:VCALENDAR