BEGIN:VCALENDAR
VERSION:2.0
PRODID:-//urschard - ECPv6.5.1.4//NONSGML v1.0//EN
CALSCALE:GREGORIAN
METHOD:PUBLISH
X-WR-CALNAME:urschard
X-ORIGINAL-URL:https://bharatacademyandsciences.org
X-WR-CALDESC:Events for urschard
REFRESH-INTERVAL;VALUE=DURATION:PT1H
X-Robots-Tag:noindex
X-PUBLISHED-TTL:PT1H
BEGIN:VTIMEZONE
TZID:UTC
BEGIN:STANDARD
TZOFFSETFROM:+0000
TZOFFSETTO:+0000
TZNAME:UTC
DTSTART:20260101T000000
END:STANDARD
END:VTIMEZONE
BEGIN:VEVENT
DTSTART;VALUE=DATE:20260202
DTEND;VALUE=DATE:20260203
DTSTAMP:20260423T202459
CREATED:20250317T123200Z
LAST-MODIFIED:20251226T182337Z
UID:10000205-1769990400-1770076799@bharatacademyandsciences.org
SUMMARY:STA EXAM BEGINS : SPECIAL ASSEMBLY ON GURU RABI DAS JAYANTI
DESCRIPTION:Dear Students\, \nToday marks the beginning of the STA Exam – a crucial step in your academic journey! 📚📝 Stay focused\, stay calm\, and give your best effort. Remember\, exams are an opportunity to showcase all that you have learned. Believe in yourself\, and success will follow! 💪🌟 \nWe also celebrate Guru Rabi Das Jayanti through a Special Assembly\, where we will honor the teachings of this revered saint\, known for his messages of love\, equality\, and devotion. 🙏❤️ Let’s reflect on his wisdom and strive to embody his values of compassion and humility in our daily lives. 🌸 \nWishing you all the best for your exams and this day of celebration! 📖✨ \nWarm regards\,The Management TeamBharat Academy & Sciences 🌼
URL:https://bharatacademyandsciences.org/event/sta-exam-begins-special-assembly-on-guru-rabi-das-jayanti/
CATEGORIES:Cermony,Examination
ATTACH;FMTTYPE=image/jpeg:https://bharatacademyandsciences.org/wp-content/uploads/2025/03/STA.jpg
END:VEVENT
BEGIN:VEVENT
DTSTART;VALUE=DATE:20260212
DTEND;VALUE=DATE:20260213
DTSTAMP:20260423T202459
CREATED:20250317T123326Z
LAST-MODIFIED:20251226T182453Z
UID:10000206-1770854400-1770940799@bharatacademyandsciences.org
SUMMARY:SPECIAL ASSEBLY ON DAYANAND SARASWATI JAYANTI
DESCRIPTION:Dear Students\, \nToday\, we come together to celebrate the Jayanti of Swami Dayanand Saraswati\, a visionary reformer and the founder of the Arya Samaj. 🙏🌿 His teachings of truth\, knowledge\, and equality continue to inspire generations. Swami Dayanand Saraswati was a pioneer who encouraged the youth to embrace education\, fight against social injustices\, and live a life of honesty and integrity. 📚💡 \nIn this special assembly\, let us reflect on his philosophy of rational thinking and self-improvement\, and strive to follow his path of learning and progress. 🌱✨ \nLet us honor his contributions by living with purpose and helping to build a society based on equality and wisdom. 💖🌟 \nWarm regards\,The Management TeamBharat Academy & Sciences 🌼
URL:https://bharatacademyandsciences.org/event/special-assebly-on-dayanand-saraswati-jayanti/
ATTACH;FMTTYPE=image/png:https://bharatacademyandsciences.org/wp-content/uploads/2025/03/Dayanand-Saraswati-Jayanti.png
END:VEVENT
BEGIN:VEVENT
DTSTART;VALUE=DATE:20260220
DTEND;VALUE=DATE:20260221
DTSTAMP:20260423T202459
CREATED:20250317T123626Z
LAST-MODIFIED:20251226T182623Z
UID:10000207-1771545600-1771631999@bharatacademyandsciences.org
SUMMARY:SPECIAL ASSEMBLY ON INTERNATIONAL MOTHER LANGUAGE DAY
DESCRIPTION:Dear Students\, \nToday\, we celebrate International Mother Language Day\, a day dedicated to promoting linguistic and cultural diversity. 🌍💬 Our mother tongue is a bridge to our heritage\, culture\, and identity. It is through language that we connect with our roots\, communicate with loved ones\, and express our emotions. 🌸🗣️ \nIn this special assembly\, let us reflect on the importance of preserving and promoting our mother languages\, while embracing the richness of diverse languages around the world. 📚🌏 Language is not only a means of communication but also a tool for understanding\, unity\, and peace. 🤝💖 \nLet’s celebrate the beauty of our languages and the diversity they bring to our lives! 🌟✨ \nWarm regards\,The Management TeamBharat Academy & Sciences 🌼
URL:https://bharatacademyandsciences.org/event/special-assembly-on-international-mother-language-day/
CATEGORIES:Cermony
ATTACH;FMTTYPE=image/png:https://bharatacademyandsciences.org/wp-content/uploads/2025/03/International-Mother-Language-Day.png
END:VEVENT
BEGIN:VEVENT
DTSTART;VALUE=DATE:20260227
DTEND;VALUE=DATE:20260228
DTSTAMP:20260423T202459
CREATED:20250317T123758Z
LAST-MODIFIED:20251226T182743Z
UID:10000208-1772150400-1772236799@bharatacademyandsciences.org
SUMMARY:SPECIAL ASSEMBLY ON NATIONAL SCIENCE DAY
DESCRIPTION:Dear Students\, \nToday\, we celebrate National Science Day\, a day dedicated to honoring the immense contributions of science in shaping our world. 🔬🌍 This day marks the discovery of the Raman Effect by Sir C.V. Raman\, a breakthrough that earned him the Nobel Prize and made India proud! 🏅✨ \nIn this special assembly\, let’s reflect on the power of curiosity\, innovation\, and discovery. Science helps us understand the world around us\, solve problems\, and create a brighter future for all. 💡🔍 \nLet’s embrace the spirit of scientific inquiry\, explore new ideas\, and always strive to push the boundaries of knowledge! 🌟💡 \nWarm regards\,The Management TeamBharat Academy & Sciences 🌼
URL:https://bharatacademyandsciences.org/event/special-assembly-on-national-science-day/
CATEGORIES:Cermony
ATTACH;FMTTYPE=image/png:https://bharatacademyandsciences.org/wp-content/uploads/2025/03/National-Science-Day.png
END:VEVENT
END:VCALENDAR