BEGIN:VCALENDAR
VERSION:2.0
PRODID:-//urschard - ECPv6.5.1.4//NONSGML v1.0//EN
CALSCALE:GREGORIAN
METHOD:PUBLISH
X-WR-CALNAME:urschard
X-ORIGINAL-URL:https://bharatacademyandsciences.org
X-WR-CALDESC:Events for urschard
REFRESH-INTERVAL;VALUE=DURATION:PT1H
X-Robots-Tag:noindex
X-PUBLISHED-TTL:PT1H
BEGIN:VTIMEZONE
TZID:UTC
BEGIN:STANDARD
TZOFFSETFROM:+0000
TZOFFSETTO:+0000
TZNAME:UTC
DTSTART:20220101T000000
END:STANDARD
END:VTIMEZONE
BEGIN:VEVENT
DTSTART;TZID=UTC:20221222T110000
DTEND;TZID=UTC:20221222T163000
DTSTAMP:20260425T122955
CREATED:20221221T094219Z
LAST-MODIFIED:20221221T094219Z
UID:10000035-1671706800-1671726600@bharatacademyandsciences.org
SUMMARY:Winter Carnival
DESCRIPTION:
URL:https://bharatacademyandsciences.org/event/winter-carnival/
LOCATION:Bharat Academy & Science\, Banitabla\, Uluberia\, Howrah\, Off N.H. 16\, Banitabla\,Uluberia Howrah\, West Bengal\, 711316
ATTACH;FMTTYPE=image/jpeg:https://bharatacademyandsciences.org/wp-content/uploads/2022/12/asasa-1.jpg
END:VEVENT
BEGIN:VEVENT
DTSTART;TZID=UTC:20221205T085000
DTEND;TZID=UTC:20221205T152000
DTSTAMP:20260425T122955
CREATED:20221205T074921Z
LAST-MODIFIED:20221205T074921Z
UID:10000034-1670230200-1670253600@bharatacademyandsciences.org
SUMMARY:Admission Test
DESCRIPTION:
URL:https://bharatacademyandsciences.org/event/admission-test-5/
LOCATION:Bharat Academy & Science\, Banitabla\, Uluberia\, Howrah\, Off N.H. 16\, Banitabla\,Uluberia Howrah\, West Bengal\, 711316
END:VEVENT
BEGIN:VEVENT
DTSTART;TZID=UTC:20221126T085000
DTEND;TZID=UTC:20221126T150000
DTSTAMP:20260425T122955
CREATED:20221125T133450Z
LAST-MODIFIED:20221125T133450Z
UID:10000033-1669452600-1669474800@bharatacademyandsciences.org
SUMMARY:Admission Test
DESCRIPTION:
URL:https://bharatacademyandsciences.org/event/admission-test-4/
LOCATION:Bharat Academy & Science\, Banitabla\, Uluberia\, Howrah\, Off N.H. 16\, Banitabla\,Uluberia Howrah\, West Bengal\, 711316
END:VEVENT
BEGIN:VEVENT
DTSTART;TZID=UTC:20221125T100000
DTEND;TZID=UTC:20221125T140000
DTSTAMP:20260425T122955
CREATED:20221125T034619Z
LAST-MODIFIED:20221125T034619Z
UID:10000032-1669370400-1669384800@bharatacademyandsciences.org
SUMMARY:Admission Test
DESCRIPTION:
URL:https://bharatacademyandsciences.org/event/admission-test-3/
LOCATION:Bharat Academy & Science\, Banitabla\, Uluberia\, Howrah\, Off N.H. 16\, Banitabla\,Uluberia Howrah\, West Bengal\, 711316
END:VEVENT
BEGIN:VEVENT
DTSTART;TZID=UTC:20221118T133000
DTEND;TZID=UTC:20221118T150000
DTSTAMP:20260425T122955
CREATED:20221117T033952Z
LAST-MODIFIED:20221117T033952Z
UID:10000031-1668778200-1668783600@bharatacademyandsciences.org
SUMMARY:Admission Test
DESCRIPTION:
URL:https://bharatacademyandsciences.org/event/admission-test-2/
LOCATION:Bharat Academy & Science\, Banitabla\, Uluberia\, Howrah\, Off N.H. 16\, Banitabla\,Uluberia Howrah\, West Bengal\, 711316
END:VEVENT
BEGIN:VEVENT
DTSTART;TZID=UTC:20221110T133000
DTEND;TZID=UTC:20221110T150000
DTSTAMP:20260425T122955
CREATED:20221107T104612Z
LAST-MODIFIED:20221107T104612Z
UID:10000022-1668087000-1668092400@bharatacademyandsciences.org
SUMMARY:Admission Test
DESCRIPTION:
URL:https://bharatacademyandsciences.org/event/admission-test/
LOCATION:Bharat Academy & Science\, Banitabla\, Uluberia\, Howrah\, Off N.H. 16\, Banitabla\,Uluberia Howrah\, West Bengal\, 711316
END:VEVENT
BEGIN:VEVENT
DTSTART;TZID=UTC:20221102T080000
DTEND;TZID=UTC:20221102T085000
DTSTAMP:20260425T122955
CREATED:20221107T121101Z
LAST-MODIFIED:20221107T121101Z
UID:10000027-1667376000-1667379000@bharatacademyandsciences.org
SUMMARY:Students practice at Football Club
DESCRIPTION:
URL:https://bharatacademyandsciences.org/event/students-practice-at-football-club/
LOCATION:Bharat Academy & Science\, Banitabla\, Uluberia\, Howrah\, Off N.H. 16\, Banitabla\,Uluberia Howrah\, West Bengal\, 711316
ATTACH;FMTTYPE=image/jpeg:https://bharatacademyandsciences.org/wp-content/uploads/2022/11/001-scaled-1.jpg
END:VEVENT
BEGIN:VEVENT
DTSTART;TZID=UTC:20221021T133000
DTEND;TZID=UTC:20221021T152000
DTSTAMP:20260425T122955
CREATED:20221107T110404Z
LAST-MODIFIED:20221107T110404Z
UID:10000023-1666359000-1666365600@bharatacademyandsciences.org
SUMMARY:Inter House wall painting competition 2022
DESCRIPTION:
URL:https://bharatacademyandsciences.org/event/inter-house-wall-painting-competition-2022/
ATTACH;FMTTYPE=image/jpeg:https://bharatacademyandsciences.org/wp-content/uploads/2022/11/Admission-1.jpg
END:VEVENT
BEGIN:VEVENT
DTSTART;TZID=UTC:20221021T133000
DTEND;TZID=UTC:20221021T143000
DTSTAMP:20260425T122955
CREATED:20221107T121554Z
LAST-MODIFIED:20221107T121554Z
UID:10000029-1666359000-1666362600@bharatacademyandsciences.org
SUMMARY:Wall Painting done by the students
DESCRIPTION:
URL:https://bharatacademyandsciences.org/event/wall-painting-done-by-the-students/
LOCATION:Bharat Academy & Science\, Banitabla\, Uluberia\, Howrah\, Off N.H. 16\, Banitabla\,Uluberia Howrah\, West Bengal\, 711316
ATTACH;FMTTYPE=image/jpeg:https://bharatacademyandsciences.org/wp-content/uploads/2022/11/1-2-1.jpeg
END:VEVENT
BEGIN:VEVENT
DTSTART;TZID=UTC:20221019T085000
DTEND;TZID=UTC:20221019T150000
DTSTAMP:20260425T122955
CREATED:20221107T121400Z
LAST-MODIFIED:20221107T121400Z
UID:10000028-1666169400-1666191600@bharatacademyandsciences.org
SUMMARY:Scout and Guide Activities
DESCRIPTION:
URL:https://bharatacademyandsciences.org/event/scout-and-guide-activities/
LOCATION:Bharat Academy & Science\, Banitabla\, Uluberia\, Howrah\, Off N.H. 16\, Banitabla\,Uluberia Howrah\, West Bengal\, 711316
ATTACH;FMTTYPE=image/jpeg:https://bharatacademyandsciences.org/wp-content/uploads/2022/11/20220922_114254-scaled-1.jpg
END:VEVENT
BEGIN:VEVENT
DTSTART;TZID=UTC:20220930T090000
DTEND;TZID=UTC:20220930T153000
DTSTAMP:20260425T122955
CREATED:20220926T111102Z
LAST-MODIFIED:20220926T111102Z
UID:10000019-1664528400-1664551800@bharatacademyandsciences.org
SUMMARY:Agomoni
DESCRIPTION:
URL:https://bharatacademyandsciences.org/event/agomoni/
LOCATION:Bharat Academy & Science\, Banitabla\, Uluberia\, Howrah\, Off N.H. 16\, Banitabla\,Uluberia Howrah\, West Bengal\, 711316
END:VEVENT
BEGIN:VEVENT
DTSTART;TZID=UTC:20220926T100000
DTEND;TZID=UTC:20220926T140000
DTSTAMP:20260425T122955
CREATED:20221013T105225Z
LAST-MODIFIED:20221013T105225Z
UID:10000020-1664186400-1664200800@bharatacademyandsciences.org
SUMMARY:Students learn basics of fabric block printing
DESCRIPTION:
URL:https://bharatacademyandsciences.org/event/students-learn-basics-of-fabric-block-printing/
LOCATION:Victoria Memorial\, Kolkata
ATTACH;FMTTYPE=image/jpeg:https://bharatacademyandsciences.org/wp-content/uploads/2022/10/4-1.jpg
END:VEVENT
BEGIN:VEVENT
DTSTART;TZID=UTC:20220921T080000
DTEND;TZID=UTC:20220921T170000
DTSTAMP:20260425T122955
CREATED:20221107T120227Z
LAST-MODIFIED:20221107T120227Z
UID:10000024-1663747200-1663779600@bharatacademyandsciences.org
SUMMARY:Visit to Indian Museum Kolkata
DESCRIPTION:
URL:https://bharatacademyandsciences.org/event/visit-to-indian-museum-kolkata/
ATTACH;FMTTYPE=image/jpeg:https://bharatacademyandsciences.org/wp-content/uploads/2022/11/DSCN6060-scaled-1.jpg
END:VEVENT
BEGIN:VEVENT
DTSTART;TZID=UTC:20220914T093000
DTEND;TZID=UTC:20220914T143000
DTSTAMP:20260425T122955
CREATED:20221013T110207Z
LAST-MODIFIED:20221013T110207Z
UID:10000021-1663147800-1663165800@bharatacademyandsciences.org
SUMMARY:Visit to victoria memorial
DESCRIPTION:
URL:https://bharatacademyandsciences.org/event/visit-to-victoria-memorial/
LOCATION:Victoria Memorial\, Kolkata\, Victoria Memorial Hall\, 1\, Queens Way\, Maidan\, West Bengal 700071\, Kolkata\, West Bengal\, 700071\, India
ATTACH;FMTTYPE=image/jpeg:https://bharatacademyandsciences.org/wp-content/uploads/2022/10/11-1.jpg
END:VEVENT
BEGIN:VEVENT
DTSTART;TZID=UTC:20220829T083000
DTEND;TZID=UTC:20220829T154000
DTSTAMP:20260425T122955
CREATED:20221107T120539Z
LAST-MODIFIED:20221107T120539Z
UID:10000025-1661761800-1661787600@bharatacademyandsciences.org
SUMMARY:National Sports Day - Football
DESCRIPTION:
URL:https://bharatacademyandsciences.org/event/national-sports-day-football/
ATTACH;FMTTYPE=image/jpeg:https://bharatacademyandsciences.org/wp-content/uploads/2022/11/20220829_145325-scaled-1.jpg
END:VEVENT
BEGIN:VEVENT
DTSTART;TZID=UTC:20220829T080000
DTEND;TZID=UTC:20220829T170000
DTSTAMP:20260425T122956
CREATED:20221107T120848Z
LAST-MODIFIED:20221107T120848Z
UID:10000026-1661760000-1661792400@bharatacademyandsciences.org
SUMMARY:National Sports Day Kabaddi
DESCRIPTION:
URL:https://bharatacademyandsciences.org/event/national-sports-day-kabaddi/
ATTACH;FMTTYPE=image/jpeg:https://bharatacademyandsciences.org/wp-content/uploads/2022/11/20220829_144639-scaled-1.jpg
END:VEVENT
BEGIN:VEVENT
DTSTART;TZID=UTC:20220807T080000
DTEND;TZID=UTC:20220810T170000
DTSTAMP:20260425T122956
CREATED:20221107T121738Z
LAST-MODIFIED:20221107T121738Z
UID:10000030-1659859200-1660150800@bharatacademyandsciences.org
SUMMARY:Bonmohotsob 2022
DESCRIPTION:
URL:https://bharatacademyandsciences.org/event/bonmohotsob-2022/
LOCATION:Bharat Academy & Science\, Banitabla\, Uluberia\, Howrah\, Off N.H. 16\, Banitabla\,Uluberia Howrah\, West Bengal\, 711316
ATTACH;FMTTYPE=image/jpeg:https://bharatacademyandsciences.org/wp-content/uploads/2022/11/0.0-scaled-1.jpg
END:VEVENT
END:VCALENDAR