BEGIN:VCALENDAR
VERSION:2.0
PRODID:-//urschard - ECPv6.5.1.4//NONSGML v1.0//EN
CALSCALE:GREGORIAN
METHOD:PUBLISH
X-WR-CALNAME:urschard
X-ORIGINAL-URL:https://bharatacademyandsciences.org
X-WR-CALDESC:Events for urschard
REFRESH-INTERVAL;VALUE=DURATION:PT1H
X-Robots-Tag:noindex
X-PUBLISHED-TTL:PT1H
BEGIN:VTIMEZONE
TZID:UTC
BEGIN:STANDARD
TZOFFSETFROM:+0000
TZOFFSETTO:+0000
TZNAME:UTC
DTSTART:20240101T000000
END:STANDARD
END:VTIMEZONE
BEGIN:VEVENT
DTSTART;VALUE=DATE:20241002
DTEND;VALUE=DATE:20241003
DTSTAMP:20260425T133317
CREATED:20240514T112456Z
LAST-MODIFIED:20240514T112534Z
UID:10000074-1727827200-1727913599@bharatacademyandsciences.org
SUMMARY:Gandhi Jayanti / Mahalaya
DESCRIPTION:
URL:https://bharatacademyandsciences.org/event/gandhi-jayanti-mahalaya/
CATEGORIES:Cermony
END:VEVENT
BEGIN:VEVENT
DTSTART;VALUE=DATE:20240919
DTEND;VALUE=DATE:20240920
DTSTAMP:20260425T133317
CREATED:20240510T032215Z
LAST-MODIFIED:20240514T105226Z
UID:10000072-1726704000-1726790399@bharatacademyandsciences.org
SUMMARY:First Terminal Assessment [Classes I-XII] / Assessment Worksheet [Nursery To KGII]
DESCRIPTION:
URL:https://bharatacademyandsciences.org/event/first-terminal-assessment-classes-i-xii-assessment-worksheet-nursery-to-kgii/
CATEGORIES:Examination
END:VEVENT
BEGIN:VEVENT
DTSTART;VALUE=DATE:20240917
DTEND;VALUE=DATE:20240918
DTSTAMP:20260425T133317
CREATED:20240510T032101Z
LAST-MODIFIED:20240514T105329Z
UID:10000071-1726531200-1726617599@bharatacademyandsciences.org
SUMMARY:Viswakarma Puja
DESCRIPTION:
URL:https://bharatacademyandsciences.org/event/viswakarma-puja/
CATEGORIES:Holidays
END:VEVENT
BEGIN:VEVENT
DTSTART;VALUE=DATE:20240916
DTEND;VALUE=DATE:20240917
DTSTAMP:20260425T133317
CREATED:20240510T031952Z
LAST-MODIFIED:20240514T105403Z
UID:10000070-1726444800-1726531199@bharatacademyandsciences.org
SUMMARY:MILAD-UL-NABI  Holiday
DESCRIPTION:
URL:https://bharatacademyandsciences.org/event/milad-ul-nabi-holiday/
CATEGORIES:Holidays
END:VEVENT
BEGIN:VEVENT
DTSTART;VALUE=DATE:20240913
DTEND;VALUE=DATE:20240914
DTSTAMP:20260425T133317
CREATED:20240510T031819Z
LAST-MODIFIED:20240514T105503Z
UID:10000069-1726185600-1726271999@bharatacademyandsciences.org
SUMMARY:Hindi Diwas Celebration [Classes III To XII]
DESCRIPTION:
URL:https://bharatacademyandsciences.org/event/hindi-diwas-celebration-classes-iii-to-xii/
CATEGORIES:Cermony
END:VEVENT
BEGIN:VEVENT
DTSTART;VALUE=DATE:20240910
DTEND;VALUE=DATE:20240911
DTSTAMP:20260425T133317
CREATED:20240510T031706Z
LAST-MODIFIED:20240514T105609Z
UID:10000068-1725926400-1726012799@bharatacademyandsciences.org
SUMMARY:Grandparent's Day Celebration
DESCRIPTION:
URL:https://bharatacademyandsciences.org/event/grandparents-day-celebration/
CATEGORIES:Cermony
END:VEVENT
BEGIN:VEVENT
DTSTART;VALUE=DATE:20240908
DTEND;VALUE=DATE:20240909
DTSTAMP:20260425T133317
CREATED:20240510T031637Z
LAST-MODIFIED:20240514T105714Z
UID:10000067-1725753600-1725839999@bharatacademyandsciences.org
SUMMARY:National Literacy Day / English Drama Competition
DESCRIPTION:
URL:https://bharatacademyandsciences.org/event/national-literacy-day-english-drama-competition/
CATEGORIES:Cermony
END:VEVENT
BEGIN:VEVENT
DTSTART;VALUE=DATE:20240905
DTEND;VALUE=DATE:20240906
DTSTAMP:20260425T133317
CREATED:20240510T031536Z
LAST-MODIFIED:20240514T105745Z
UID:10000066-1725494400-1725580799@bharatacademyandsciences.org
SUMMARY:Teacher's Day Celebration
DESCRIPTION:
URL:https://bharatacademyandsciences.org/event/teachers-day-celebration/
CATEGORIES:Cermony
END:VEVENT
BEGIN:VEVENT
DTSTART;VALUE=DATE:20240829
DTEND;VALUE=DATE:20240830
DTSTAMP:20260425T133317
CREATED:20240510T012820Z
LAST-MODIFIED:20240624T164255Z
UID:10000065-1724889600-1724975999@bharatacademyandsciences.org
SUMMARY:National Sports Day Celebration
DESCRIPTION:
URL:https://bharatacademyandsciences.org/event/national-sports-day-celebration/
CATEGORIES:Cermony
ATTACH;FMTTYPE=image/jpeg:https://bharatacademyandsciences.org/wp-content/uploads/2022/08/National-sports-day.jpg
END:VEVENT
BEGIN:VEVENT
DTSTART;VALUE=DATE:20240826
DTEND;VALUE=DATE:20240827
DTSTAMP:20260425T133317
CREATED:20240510T012725Z
LAST-MODIFIED:20240624T154959Z
UID:10000064-1724630400-1724716799@bharatacademyandsciences.org
SUMMARY:Janmashtami Holiday
DESCRIPTION:
URL:https://bharatacademyandsciences.org/event/janmashtami-holiday/
CATEGORIES:Holidays
ATTACH;FMTTYPE=image/jpeg:https://bharatacademyandsciences.org/wp-content/uploads/2022/08/JONMASTOMI.jpg
END:VEVENT
BEGIN:VEVENT
DTSTART;VALUE=DATE:20240819
DTEND;VALUE=DATE:20240820
DTSTAMP:20260425T133317
CREATED:20240510T012639Z
LAST-MODIFIED:20240624T164736Z
UID:10000063-1724025600-1724111999@bharatacademyandsciences.org
SUMMARY:Raksha Bandhan Celebration [Nursery To Class V]
DESCRIPTION:
URL:https://bharatacademyandsciences.org/event/raksha-bandhan-celebration-nursery-to-class-v/
CATEGORIES:Cermony
ATTACH;FMTTYPE=image/jpeg:https://bharatacademyandsciences.org/wp-content/uploads/2022/08/Raksha-Bandhan.jpg
END:VEVENT
BEGIN:VEVENT
DTSTART;VALUE=DATE:20240815
DTEND;VALUE=DATE:20240816
DTSTAMP:20260425T133317
CREATED:20240510T012602Z
LAST-MODIFIED:20240624T154438Z
UID:10000062-1723680000-1723766399@bharatacademyandsciences.org
SUMMARY:Independence Day Celebration
DESCRIPTION:
URL:https://bharatacademyandsciences.org/event/independence-day-celebration/
CATEGORIES:Cermony
ATTACH;FMTTYPE=image/jpeg:https://bharatacademyandsciences.org/wp-content/uploads/2022/08/15-aug.jpg
END:VEVENT
BEGIN:VEVENT
DTSTART;VALUE=DATE:20240812
DTEND;VALUE=DATE:20240813
DTSTAMP:20260425T133317
CREATED:20240510T012258Z
LAST-MODIFIED:20240624T154401Z
UID:10000061-1723420800-1723507199@bharatacademyandsciences.org
SUMMARY:Indepedence Week / Club Activity on Independence Week
DESCRIPTION:
URL:https://bharatacademyandsciences.org/event/independence-week-club-activity-on-independence-week/
CATEGORIES:Cermony
ATTACH;FMTTYPE=image/jpeg:https://bharatacademyandsciences.org/wp-content/uploads/2022/08/15-aug.jpg
END:VEVENT
BEGIN:VEVENT
DTSTART;VALUE=DATE:20240809
DTEND;VALUE=DATE:20240810
DTSTAMP:20260425T133317
CREATED:20240510T012209Z
LAST-MODIFIED:20240624T165131Z
UID:10000060-1723161600-1723247999@bharatacademyandsciences.org
SUMMARY:Tulsidas Jayanti [Hindi Drama Competition] / Janmasthami Celebration [Nursery To Class II]
DESCRIPTION:
URL:https://bharatacademyandsciences.org/event/tulsidas-jayanti-hindi-drama-competition-janmasthami-celebration-nursery-to-class-ii/
CATEGORIES:Cermony
ATTACH;FMTTYPE=image/jpeg:https://bharatacademyandsciences.org/wp-content/uploads/2022/08/tulsidas-jayonti.jpg
END:VEVENT
BEGIN:VEVENT
DTSTART;VALUE=DATE:20240731
DTEND;VALUE=DATE:20240801
DTSTAMP:20260425T133317
CREATED:20240510T012103Z
LAST-MODIFIED:20240624T155428Z
UID:10000059-1722384000-1722470399@bharatacademyandsciences.org
SUMMARY:Premchand Jayanti Celebration
DESCRIPTION:
URL:https://bharatacademyandsciences.org/event/premchand-jayanti-celebration/
CATEGORIES:Cermony
ATTACH;FMTTYPE=image/jpeg:https://bharatacademyandsciences.org/wp-content/uploads/2022/08/munsi-premchand-ji-jyonti.jpg
END:VEVENT
BEGIN:VEVENT
DTSTART;VALUE=DATE:20240729
DTEND;VALUE=DATE:20240730
DTSTAMP:20260425T133317
CREATED:20240510T012018Z
LAST-MODIFIED:20240624T174457Z
UID:10000058-1722211200-1722297599@bharatacademyandsciences.org
SUMMARY:International Tiger Day / House Activity On International Tiger Day
DESCRIPTION:
URL:https://bharatacademyandsciences.org/event/international-tiger-day-house-activity-on-international-tiger-day/
CATEGORIES:Cermony
ATTACH;FMTTYPE=image/jpeg:https://bharatacademyandsciences.org/wp-content/uploads/2022/08/tiger-day.jpg
END:VEVENT
BEGIN:VEVENT
DTSTART;VALUE=DATE:20240717
DTEND;VALUE=DATE:20240718
DTSTAMP:20260425T133317
CREATED:20240510T011950Z
LAST-MODIFIED:20240513T184806Z
UID:10000057-1721174400-1721260799@bharatacademyandsciences.org
SUMMARY:Muharram Holiday
DESCRIPTION:
URL:https://bharatacademyandsciences.org/event/muhharam-holiday/
CATEGORIES:Holidays
END:VEVENT
BEGIN:VEVENT
DTSTART;VALUE=DATE:20240710
DTEND;VALUE=DATE:20240711
DTSTAMP:20260425T133317
CREATED:20240510T011852Z
LAST-MODIFIED:20240513T184701Z
UID:10000056-1720569600-1720655999@bharatacademyandsciences.org
SUMMARY:First Term Unit Test [Classes I To XII]
DESCRIPTION:
URL:https://bharatacademyandsciences.org/event/first-term-unit-test-classes-i-to-xii/
CATEGORIES:Examination
END:VEVENT
BEGIN:VEVENT
DTSTART;VALUE=DATE:20240707
DTEND;VALUE=DATE:20240708
DTSTAMP:20260425T133317
CREATED:20240510T011649Z
LAST-MODIFIED:20240513T184535Z
UID:10000054-1720310400-1720396799@bharatacademyandsciences.org
SUMMARY:Rath Yatra
DESCRIPTION:
URL:https://bharatacademyandsciences.org/event/rath-yatra/
CATEGORIES:Cermony,Holidays
END:VEVENT
BEGIN:VEVENT
DTSTART;VALUE=DATE:20240704
DTEND;VALUE=DATE:20240705
DTSTAMP:20260425T133317
CREATED:20240510T011549Z
LAST-MODIFIED:20240624T165539Z
UID:10000053-1720051200-1720137599@bharatacademyandsciences.org
SUMMARY:Van Mahostav Week
DESCRIPTION:
URL:https://bharatacademyandsciences.org/event/van-mahostav-week/
CATEGORIES:Cermony
ATTACH;FMTTYPE=image/jpeg:https://bharatacademyandsciences.org/wp-content/uploads/2022/08/van-mahotsav-week.jpg
END:VEVENT
BEGIN:VEVENT
DTSTART;VALUE=DATE:20240701
DTEND;VALUE=DATE:20240702
DTSTAMP:20260425T133317
CREATED:20240510T011349Z
LAST-MODIFIED:20240624T154541Z
UID:10000052-1719792000-1719878399@bharatacademyandsciences.org
SUMMARY:Doctor's Day
DESCRIPTION:
URL:https://bharatacademyandsciences.org/event/doctors-day/
CATEGORIES:Cermony
ATTACH;FMTTYPE=image/jpeg:https://bharatacademyandsciences.org/wp-content/uploads/2022/08/Doctors-day.jpg
END:VEVENT
BEGIN:VEVENT
DTSTART;VALUE=DATE:20240624
DTEND;VALUE=DATE:20240625
DTSTAMP:20260425T133317
CREATED:20240510T011305Z
LAST-MODIFIED:20240624T155230Z
UID:10000051-1719187200-1719273599@bharatacademyandsciences.org
SUMMARY:Kabirdas Jayanti Celebration
DESCRIPTION:
URL:https://bharatacademyandsciences.org/event/kabirdas-jayanti-celebration/
CATEGORIES:Cermony
ATTACH;FMTTYPE=image/jpeg:https://bharatacademyandsciences.org/wp-content/uploads/2022/08/kabir-jayanti.jpg
END:VEVENT
BEGIN:VEVENT
DTSTART;VALUE=DATE:20240621
DTEND;VALUE=DATE:20240622
DTSTAMP:20260425T133317
CREATED:20240510T011233Z
LAST-MODIFIED:20240624T155611Z
UID:10000050-1718928000-1719014399@bharatacademyandsciences.org
SUMMARY:World Yoga Day / World Music Day / Club Activity On Yoga & Music Day [Classes III To VI – Quiz\, Classes VII To VIII – Extempore\, Classes IX To XII – Debate]
DESCRIPTION:
URL:https://bharatacademyandsciences.org/event/world-yoga-day-world-music-day-club-activity-on-yoga-music-day-classes-iii-to-vi-quiz-classes-vii-to-viii-extempore-classes-ix-to-xii-debate/
CATEGORIES:Cermony
ATTACH;FMTTYPE=image/jpeg:https://bharatacademyandsciences.org/wp-content/uploads/2022/08/Music-day.jpg
END:VEVENT
BEGIN:VEVENT
DTSTART;VALUE=DATE:20240621
DTEND;VALUE=DATE:20240622
DTSTAMP:20260425T133317
CREATED:20230615T093337Z
LAST-MODIFIED:20240624T155540Z
UID:10000039-1718928000-1719014399@bharatacademyandsciences.org
SUMMARY:World Music Day and Yoga Day Celebration
DESCRIPTION: 
URL:https://bharatacademyandsciences.org/event/world-music-day-and-yoga-day-celebration/
LOCATION:Bharat Academy & Science\, Banitabla\, Uluberia\, Howrah\, Off N.H. 16\, Banitabla\,Uluberia Howrah\, West Bengal\, 711316
CATEGORIES:Holidays
ATTACH;FMTTYPE=image/jpeg:https://bharatacademyandsciences.org/wp-content/uploads/2022/08/Music-day.jpg
END:VEVENT
BEGIN:VEVENT
DTSTART;VALUE=DATE:20240617
DTEND;VALUE=DATE:20240618
DTSTAMP:20260425T133317
CREATED:20240510T011154Z
LAST-MODIFIED:20240513T183504Z
UID:10000049-1718582400-1718668799@bharatacademyandsciences.org
SUMMARY:ID-UL-ZOHA Holiday
DESCRIPTION:
URL:https://bharatacademyandsciences.org/event/id-ul-zoha-holiday/
CATEGORIES:Holidays
END:VEVENT
BEGIN:VEVENT
DTSTART;VALUE=DATE:20240614
DTEND;VALUE=DATE:20240615
DTSTAMP:20260425T133317
CREATED:20240510T011127Z
LAST-MODIFIED:20240513T183410Z
UID:10000048-1718323200-1718409599@bharatacademyandsciences.org
SUMMARY:House Activity [Essay Writing Competition On World Environment Day & Ocean Day [ Classes IX To XII]
DESCRIPTION:
URL:https://bharatacademyandsciences.org/event/house-activity-essay-writing-competition-on-world-environment-day-ocean-day-classes-ix-to-xii/
CATEGORIES:Cermony
END:VEVENT
BEGIN:VEVENT
DTSTART;VALUE=DATE:20240608
DTEND;VALUE=DATE:20240609
DTSTAMP:20260425T133317
CREATED:20240510T011048Z
LAST-MODIFIED:20240624T164545Z
UID:10000047-1717804800-1717891199@bharatacademyandsciences.org
SUMMARY:World Ocean Day Observation
DESCRIPTION:
URL:https://bharatacademyandsciences.org/event/world-ocean-day-observation/
CATEGORIES:Cermony
ATTACH;FMTTYPE=image/jpeg:https://bharatacademyandsciences.org/wp-content/uploads/2022/08/ocen-day.jpg
END:VEVENT
BEGIN:VEVENT
DTSTART;VALUE=DATE:20240605
DTEND;VALUE=DATE:20240606
DTSTAMP:20260425T133317
CREATED:20240510T011000Z
LAST-MODIFIED:20240624T154728Z
UID:10000046-1717545600-1717631999@bharatacademyandsciences.org
SUMMARY:World Environment Day Celebration
DESCRIPTION:
URL:https://bharatacademyandsciences.org/event/world-environment-day-celebration/
CATEGORIES:Cermony
ATTACH;FMTTYPE=image/jpeg:https://bharatacademyandsciences.org/wp-content/uploads/2022/08/environment-day.jpg
END:VEVENT
BEGIN:VEVENT
DTSTART;VALUE=DATE:20240604
DTEND;VALUE=DATE:20240605
DTSTAMP:20260425T133317
CREATED:20240510T010842Z
LAST-MODIFIED:20240513T181517Z
UID:10000045-1717459200-1717545599@bharatacademyandsciences.org
SUMMARY:School Reopens For Students [Nursery to Class VIII] / Unit Test Begins
DESCRIPTION:
URL:https://bharatacademyandsciences.org/event/school-reopens-for-students-nursery-to-clas-viii-unit-test-begins/
CATEGORIES:Holidays
END:VEVENT
BEGIN:VEVENT
DTSTART;VALUE=DATE:20240603
DTEND;VALUE=DATE:20240604
DTSTAMP:20260425T133317
CREATED:20240510T010754Z
LAST-MODIFIED:20240513T181329Z
UID:10000044-1717372800-1717459199@bharatacademyandsciences.org
SUMMARY:School Reopens For Students [Classes IX TO XII] & Teachers / Unit Test Begins
DESCRIPTION:
URL:https://bharatacademyandsciences.org/event/school-reopens-for-students-classes-ix-to-xii-teachers-unit-test-begins/
CATEGORIES:Holidays
END:VEVENT
END:VCALENDAR