BEGIN:VCALENDAR
VERSION:2.0
PRODID:-//urschard - ECPv6.5.1.4//NONSGML v1.0//EN
CALSCALE:GREGORIAN
METHOD:PUBLISH
X-ORIGINAL-URL:https://bharatacademyandsciences.org
X-WR-CALDESC:Events for urschard
REFRESH-INTERVAL;VALUE=DURATION:PT1H
X-Robots-Tag:noindex
X-PUBLISHED-TTL:PT1H
BEGIN:VTIMEZONE
TZID:UTC
BEGIN:STANDARD
TZOFFSETFROM:+0000
TZOFFSETTO:+0000
TZNAME:UTC
DTSTART:20260101T000000
END:STANDARD
END:VTIMEZONE
BEGIN:VEVENT
DTSTART;VALUE=DATE:20260302
DTEND;VALUE=DATE:20260316
DTSTAMP:20260423T230953
CREATED:20250317T124248Z
LAST-MODIFIED:20251226T183106Z
UID:10000210-1772409600-1773619199@bharatacademyandsciences.org
SUMMARY:SESSION BREAK BEGINS FOR STUDENTS
DESCRIPTION:Dear Students\, \nThe time has come to take a well-deserved session break! 🎉📚 After all your hard work and dedication\, it’s important to recharge\, relax\, and enjoy some time for yourself. 🌟💖 Whether you’re spending time with family\, exploring a hobby\, or simply unwinding\, make the most of this break to refresh your mind and body. 🧘‍♀️🎨 \nRemember\, a break helps you come back with renewed energy and focus for the next session. ✨💪 We look forward to seeing you all return with fresh ideas\, motivation\, and enthusiasm to continue your journey of learning! 🌱📖 \nWishing you all a wonderful and restful break! 🌼 \nWarm regards\,The Management TeamBharat Academy & Sciences 🌸
URL:https://bharatacademyandsciences.org/event/session-break-begins-for-students/
CATEGORIES:Holidays
ATTACH;FMTTYPE=image/png:https://bharatacademyandsciences.org/wp-content/uploads/2025/03/Session-Break.png
END:VEVENT
BEGIN:VEVENT
DTSTART;VALUE=DATE:20260316
DTEND;VALUE=DATE:20260317
DTSTAMP:20260423T230953
CREATED:20250317T124513Z
LAST-MODIFIED:20251226T183213Z
UID:10000211-1773619200-1773705599@bharatacademyandsciences.org
SUMMARY:NEW SESSION BEGINS 2026-27
DESCRIPTION:Dear Students\, \nWelcome to the New Session 2026-27! 🎉📚 A fresh start brings new opportunities\, challenges\, and a chance to set exciting goals. Let’s embrace this year with enthusiasm\, dedication\, and a passion for learning. 🌟✨ \nThis year\, let’s continue to work hard\, explore new ideas\, and unlock our full potential. Together\, we will make this session memorable and successful! 💪🎯 \nWe are excited to see you grow\, achieve\, and thrive throughout this year. Let’s make the most of every moment and create a journey full of learning and progress! 📖🌱 \nHere’s to a fantastic year ahead! 🎊💖 \nWarm regards\,The Management TeamBharat Academy & Sciences 🌼
URL:https://bharatacademyandsciences.org/event/new-session-begins-2026-27/
ATTACH;FMTTYPE=image/png:https://bharatacademyandsciences.org/wp-content/uploads/2025/03/NEW-SESSION-BEGINS-2026-27.png
END:VEVENT
END:VCALENDAR