BEGIN:VCALENDAR
VERSION:2.0
PRODID:-//urschard - ECPv6.5.1.4//NONSGML v1.0//EN
CALSCALE:GREGORIAN
METHOD:PUBLISH
X-WR-CALNAME:urschard
X-ORIGINAL-URL:https://bharatacademyandsciences.org
X-WR-CALDESC:Events for urschard
REFRESH-INTERVAL;VALUE=DURATION:PT1H
X-Robots-Tag:noindex
X-PUBLISHED-TTL:PT1H
BEGIN:VTIMEZONE
TZID:UTC
BEGIN:STANDARD
TZOFFSETFROM:+0000
TZOFFSETTO:+0000
TZNAME:UTC
DTSTART:20250101T000000
END:STANDARD
END:VTIMEZONE
BEGIN:VEVENT
DTSTART;VALUE=DATE:20250327
DTEND;VALUE=DATE:20250328
DTSTAMP:20260424T105227
CREATED:20250315T063335Z
LAST-MODIFIED:20250402T135041Z
UID:10000117-1743033600-1743119999@bharatacademyandsciences.org
SUMMARY:Special Assembly on Eid
DESCRIPTION:Special Assembly on Eid at Bharat Academy & Sciences \nToday\, we come together in the spirit of unity and celebration to mark the joyous occasion of Eid. Eid is a time of peace\, love\, and reflection\, a festival that brings together families\, friends\, and communities in a spirit of sharing and kindness. \nAt Bharat Academy & Sciences\, we celebrate this special day with gratitude for the lessons of compassion\, generosity\, and harmony that Eid teaches us. As we gather for this special assembly\, let us remember the importance of helping those in need\, being kind to one another\, and embracing the values of respect and understanding. \nEid reminds us that the beauty of our world lies in the diversity of its people. Today\, we celebrate not only Eid but the spirit of togetherness that binds us all as one community. \nMay this Eid bring joy\, peace\, and prosperity to every one of you\, and may it inspire us all to continue building a world full of love and mutual respect. Eid Mubarak to everyone! \nLet us now begin the assembly with a prayer for peace and goodwill.
URL:https://bharatacademyandsciences.org/event/special-assembly-on-eid/
CATEGORIES:Lectures
ATTACH;FMTTYPE=image/png:https://bharatacademyandsciences.org/wp-content/uploads/2025/03/Screenshot-2025-04-02-192514.png
END:VEVENT
END:VCALENDAR