BEGIN:VCALENDAR
VERSION:2.0
PRODID:-//urschard - ECPv6.5.1.4//NONSGML v1.0//EN
CALSCALE:GREGORIAN
METHOD:PUBLISH
X-WR-CALNAME:urschard
X-ORIGINAL-URL:https://bharatacademyandsciences.org
X-WR-CALDESC:Events for urschard
REFRESH-INTERVAL;VALUE=DURATION:PT1H
X-Robots-Tag:noindex
X-PUBLISHED-TTL:PT1H
BEGIN:VTIMEZONE
TZID:UTC
BEGIN:STANDARD
TZOFFSETFROM:+0000
TZOFFSETTO:+0000
TZNAME:UTC
DTSTART:20240101T000000
END:STANDARD
END:VTIMEZONE
BEGIN:VEVENT
DTSTART;VALUE=DATE:20250928
DTEND;VALUE=DATE:20250929
DTSTAMP:20260423T202735
CREATED:20250317T075346Z
LAST-MODIFIED:20250806T074307Z
UID:10000170-1759017600-1759103999@bharatacademyandsciences.org
SUMMARY:MAHASASTHI
DESCRIPTION:Dear Students\, Teachers\, and Staff\, \nWe are excited to celebrate Mahasasthi\, the first day of the Durga Puja festival\, marking the beginning of a vibrant and joyful celebration! 🎉🌸 \nMahasasthi is a day to welcome Goddess Durga\, the symbol of strength\, wisdom\, and victory over evil. 🙏💪 It is a time to reflect on the values of courage\, compassion\, and righteousness that she represents. As we begin the festivities\, let’s come together to honor the spirit of unity\, devotion\, and cultural heritage that Durga Puja brings. 🌼🎶 \nLet us celebrate with enthusiasm\, joy\, and a deep sense of respect for the values of truth\, justice\, and love that this special occasion inspires. 🌟🌸 \nWarm regards\,The Management TeamBharat Academy & Sciences 🌼
URL:https://bharatacademyandsciences.org/event/mahasasthi/
CATEGORIES:Cermony,Holidays
ATTACH;FMTTYPE=image/jpeg:https://bharatacademyandsciences.org/wp-content/uploads/2025/03/Mahasasthi.jpg
END:VEVENT
BEGIN:VEVENT
DTSTART;VALUE=DATE:20250927
DTEND;VALUE=DATE:20251007
DTSTAMP:20260423T202735
CREATED:20250317T074009Z
LAST-MODIFIED:20250806T074022Z
UID:10000167-1758931200-1759795199@bharatacademyandsciences.org
SUMMARY:DURGA PUJA VACATION
DESCRIPTION:Dear Students\, Teachers\, and Staff\, \nThe much-awaited Durga Puja Vacation is here! 🎉🌸 As we celebrate this auspicious occasion\, let’s take a moment to reflect on the significance of Durga Puja\, a time to honor the power of good over evil\, strength\, and courage. 💪🙏 \nThis is also an opportunity to relax\, recharge\, and spend quality time with family and friends. 🏠💖 Enjoy the festivities\, cultural events\, and the joy that this time of year brings. 🎶🪔 \nWe hope you return from the vacation with renewed energy\, ready to continue your learning journey with enthusiasm and dedication! 🌟📚 \nWishing everyone a joyous and safe Durga Puja celebration! 🌼🎉 \nWarm regards\,The Management TeamBharat Academy & Sciences 🌼
URL:https://bharatacademyandsciences.org/event/durga-puja-vacation-begins/
CATEGORIES:Holidays
ATTACH;FMTTYPE=image/jpeg:https://bharatacademyandsciences.org/wp-content/uploads/2025/03/Durga-Puja-Vacation-Begins.jpg
END:VEVENT
BEGIN:VEVENT
DTSTART;VALUE=DATE:20250921
DTEND;VALUE=DATE:20250922
DTSTAMP:20260423T202735
CREATED:20250317T073254Z
LAST-MODIFIED:20250806T073309Z
UID:10000165-1758412800-1758499199@bharatacademyandsciences.org
SUMMARY:MAHALAYA
DESCRIPTION:Dear Students\, Teachers\, and Staff\, \nWe are excited to celebrate Mahalaya\, marking the beginning of the grand festival of Durga Puja! 🙏✨ Mahalaya is a day to remember and honor the divine Goddess Durga\, as well as the triumph of good over evil. It is a time of reflection\, devotion\, and the invocation of strength and courage. 🌸💪 \nOn this day\, we come together to celebrate the spirit of unity\, faith\, and cultural richness that Mahalaya brings. We will share stories\, music\, and prayers that inspire us to embrace the virtues of bravery\, compassion\, and righteousness 💖🎶. \nLet’s unite to honor this auspicious occasion and welcome the festive spirit with joy and devotion! 🌼🎉 \nWarm regards\,The Management TeamBharat Academy & Sciences 🌼
URL:https://bharatacademyandsciences.org/event/mahalaya/
CATEGORIES:Holidays
ATTACH;FMTTYPE=image/jpeg:https://bharatacademyandsciences.org/wp-content/uploads/2025/03/Mahalaya.jpg
END:VEVENT
BEGIN:VEVENT
DTSTART;VALUE=DATE:20250510
DTEND;VALUE=DATE:20250602
DTSTAMP:20260423T202735
CREATED:20250315T160751Z
LAST-MODIFIED:20250603T105633Z
UID:10000133-1746835200-1748822399@bharatacademyandsciences.org
SUMMARY:SUMMER VACATION
DESCRIPTION:Dear Students and Parents\, \nThe time has finally come for our long-awaited summer vacation! As we wrap up another productive academic term\, we encourage our students to use this break not only for rest and relaxation but also for self-growth and exploration. \nHow to Make the Most of Summer Vacation:\n📚 Read More: Pick up a new book or explore different genres to ignite your imagination.🏞️ Stay Active: Engage in outdoor activities\, sports\, and games to keep your body fit and healthy.🎨 Explore Creativity: Use your free time to discover a new hobby—whether it’s painting\, music\, or crafting.🌱 Learn Something New: Summer is a great time to pick up new skills or knowledge outside the classroom\, like gardening or cooking. \nRemember\, learning never stops. While you enjoy your break\, keep your curiosity alive and continue to explore the world around you. \nWishing all our students a restful and enriching summer vacation. \nBharat Academy & Sciences“Education with Values\, Learning with Purpose”
URL:https://bharatacademyandsciences.org/event/summer-vacation/
CATEGORIES:Holidays
ATTACH;FMTTYPE=image/jpeg:https://bharatacademyandsciences.org/wp-content/uploads/2025/03/Summer-Vacation.jpg
END:VEVENT
BEGIN:VEVENT
DTSTART;VALUE=DATE:20250501
DTEND;VALUE=DATE:20250502
DTSTAMP:20260423T202735
CREATED:20250315T155220Z
LAST-MODIFIED:20250603T104812Z
UID:10000128-1746057600-1746143999@bharatacademyandsciences.org
SUMMARY:MAY DAY- HOLIDAY
DESCRIPTION:Dear Students and Parents\, \nOn the occasion of May Day\, Bharat Academy & Sciences will remain closed as we honor the hardworking spirit of labor and the significant contributions of workers around the world. May Day is not only a day for rest but also a reminder of the value of hard work\, dedication\, and the rights of every individual. \nEducational Significance of May Day:\n💪 Respect for Work: Every job\, big or small\, contributes to society’s growth.⚖️ Equality and Fairness: We learn the importance of fair treatment and justice for all workers.💡 Value of Hard Work: May Day encourages us to recognize the effort behind success and appreciate the people who help build our world. \nLet this day inspire us to always approach our studies and life with dedication and respect for the work of others. \nWishing everyone a thoughtful and restful May Day. \nBharat Academy & Sciences“Education with Values\, Learning with Purpose”
URL:https://bharatacademyandsciences.org/event/may-day-holiday/
CATEGORIES:Holidays
ATTACH;FMTTYPE=image/jpeg:https://bharatacademyandsciences.org/wp-content/uploads/2025/03/May-day.jpg
END:VEVENT
BEGIN:VEVENT
DTSTART;VALUE=DATE:20250418
DTEND;VALUE=DATE:20250419
DTSTAMP:20260423T202735
CREATED:20250315T153429Z
LAST-MODIFIED:20250404T081147Z
UID:10000125-1744934400-1745020799@bharatacademyandsciences.org
SUMMARY:GOOD FRIDAY - HOLIDAY
DESCRIPTION:Dear Students and Parents\, \nOn the occasion of Good Friday\, Bharat Academy & Sciences will remain closed as we observe this day of reflection\, sacrifice\, and compassion. More than just a holiday\, Good Friday reminds us of the values of love\, forgiveness\, and selflessness—principles that shape not only our moral character but also our journey of learning and growth. \nEducational Significance of Good Friday:\n✝️ Compassion: Be kind and help those in need.🕊️ Forgiveness: Let go of anger and embrace peace.❤️ Selflessness: True strength lies in service to others. \nAs students and lifelong learners\, let us take this day to reflect on the importance of empathy\, truth\, and understanding\, making the world a better place through our actions. \nWishing everyone a meaningful and peaceful Good Friday. \nBharat Academy & Sciences“Education with Values\, Learning with Purpose”
URL:https://bharatacademyandsciences.org/event/good-friday-holiday/
CATEGORIES:Holidays
ATTACH;FMTTYPE=image/png:https://bharatacademyandsciences.org/wp-content/uploads/2025/03/Screenshot-2025-04-04-134730.png
END:VEVENT
BEGIN:VEVENT
DTSTART;VALUE=DATE:20250415
DTEND;VALUE=DATE:20250416
DTSTAMP:20260423T202735
CREATED:20250315T152911Z
LAST-MODIFIED:20250402T143504Z
UID:10000123-1744675200-1744761599@bharatacademyandsciences.org
SUMMARY:Bengali New Year Holiday (Foundation Day celebration for staff members)
DESCRIPTION:Dear Students and Parents\, \nOn the joyous occasion of Poila Baishakh\, the Bengali New Year\, Bharat Academy & Sciences will remain closed as we celebrate not only the beginning of a new year but also the Foundation Day of our esteemed institution. This day marks a journey of knowledge\, growth\, and commitment to excellence in education. \nPoila Baishakh symbolizes new beginnings\, perseverance\, and cultural unity—values that align with our school’s vision of holistic learning. Just as farmers sow seeds for a prosperous harvest\, education sows the seeds of wisdom and success in young minds. \n🌱 Educational Values to Embrace This New Year:📚 Learning is a lifelong journey—embrace it with curiosity.🤝 Respect and unity build a strong community.💡 Hard work and determination pave the way for a bright future. \nAs we celebrate this special day\, let us reflect on our collective mission—to empower young minds and nurture a society of enlightened individuals. \n🎉 Shubho Nobo Borsho! May this new year bring wisdom\, happiness\, and success to all. \nBharat Academy & Sciences“Education with Values\, Learning with Purpose”
URL:https://bharatacademyandsciences.org/event/bengali-new-year-holiday-foundation-day-celebration-for-staff-members/
CATEGORIES:Cermony,Holidays
ATTACH;FMTTYPE=image/png:https://bharatacademyandsciences.org/wp-content/uploads/2025/03/Screenshot-2025-04-02-201250.png
END:VEVENT
BEGIN:VEVENT
DTSTART;VALUE=DATE:20250414
DTEND;VALUE=DATE:20250415
DTSTAMP:20260423T202735
CREATED:20250315T152138Z
LAST-MODIFIED:20250402T143354Z
UID:10000122-1744588800-1744675199@bharatacademyandsciences.org
SUMMARY:Dr B. R AMBEDKAR JAYANTI- HOLIDAY
DESCRIPTION:Dear Students and Parents\, \nOn the occasion of Dr. B. R. Ambedkar Jayanti\, Bharat Academy & Sciences will remain closed as we honor the birth anniversary of one of India’s greatest visionaries—Dr. B. R. Ambedkar\, the Father of the Indian Constitution. This day is not just a holiday but an opportunity to reflect on his invaluable contributions to education\, equality\, and justice. \nDr. Ambedkar believed that education is the most powerful tool for empowerment\, and his life’s work emphasized the importance of knowledge\, self-respect\, and perseverance. He taught us that true progress comes from hard work\, critical thinking\, and a commitment to social harmony. \nLessons from Dr. Ambedkar’s Life:\n📚 Education is the key to freedom and progress.⚖️ Equality and justice create a stronger society.💡 Courage and knowledge lead to true empowerment. \nAs we observe this day\, let us honor his legacy by dedicating ourselves to learning\, treating everyone with respect\, and striving to make our society a place of fairness and opportunity for all. \nLet’s use this holiday not just for rest\, but for reflection—to understand our rights\, fulfill our duties\, and work toward a brighter future. \n📖 “Cultivation of mind should be the ultimate aim of human existence.” – Dr. B. R. Ambedkar \nWishing you all a thoughtful and inspiring Ambedkar Jayanti! \nBharat Academy & Sciences“Education with Values\, Learning with Purpose”
URL:https://bharatacademyandsciences.org/event/dr-b-r-ambedkar-jayanti-holiday/
CATEGORIES:Holidays
ATTACH;FMTTYPE=image/png:https://bharatacademyandsciences.org/wp-content/uploads/2025/03/Screenshot-2025-04-02-200943.png
END:VEVENT
BEGIN:VEVENT
DTSTART;VALUE=DATE:20250410
DTEND;VALUE=DATE:20250411
DTSTAMP:20260423T202735
CREATED:20250315T144937Z
LAST-MODIFIED:20250402T124616Z
UID:10000120-1744243200-1744329599@bharatacademyandsciences.org
SUMMARY:MAHAVIR JAYANTI - HOLIDAY
DESCRIPTION:Dear Students and Parents\, \nOn the auspicious occasion of Mahavir Jayanti\, Bharat Academy & Sciences will remain closed as we honor the birth anniversary of Lord Mahavir\, the 24th Tirthankara of Jainism. More than just a holiday\, this day is an opportunity for us to reflect on his timeless teachings of non-violence\, truth\, and self-discipline. \nLord Mahavir’s principles of Ahimsa (non-violence)\, Satya (truthfulness)\, and Aparigraha (simplicity) are not just religious values but universal lessons that shape us into better human beings. His message encourages us to practice compassion\, honesty\, and respect for all living beings\, which are essential virtues in today’s world. \nAs we enjoy this day\, let us take a moment to embrace these values in our daily lives—whether through small acts of kindness\, being honest in our words and actions\, or controlling our desires for unnecessary things. Education is not just about knowledge but about character-building\, and Lord Mahavir’s teachings give us a path to follow. \nLet’s make this holiday meaningful by practicing peace\, patience\, and positivity in our lives. \nWishing you all a Happy and Enlightening Mahavir Jayanti! \nBharat Academy & Sciences“Education with Values\, Learning with Purpose”
URL:https://bharatacademyandsciences.org/event/mahavir-jayanti-holiday/
CATEGORIES:Holidays
ATTACH;FMTTYPE=image/png:https://bharatacademyandsciences.org/wp-content/uploads/2025/03/Screenshot-2025-04-02-182444.png
END:VEVENT
BEGIN:VEVENT
DTSTART;VALUE=DATE:20250331
DTEND;VALUE=DATE:20250401
DTSTAMP:20260423T202735
CREATED:20240515T090654Z
LAST-MODIFIED:20250402T135204Z
UID:10000111-1743379200-1743465599@bharatacademyandsciences.org
SUMMARY:Eid-ul-Fitr/Ramzan Eid- HOLIDAY
DESCRIPTION:Eid-ul-Fitr at Bharat Academy & Sciences \nEid-ul-Fitr\, also known as Ramzan Eid\, is a momentous occasion that not only holds deep spiritual meaning but also offers valuable lessons that align with the educational values we embrace at Bharat Academy & Sciences. This festival marks the end of the holy month of Ramzan\, a time for self-discipline\, reflection\, and personal growth. \nThroughout Ramzan\, Muslims engage in fasting\, which requires patience\, resilience\, and time management—qualities that are integral to academic success. The discipline practiced during this month teaches students the importance of setting goals\, managing challenges\, and maintaining focus\, much like the perseverance required to succeed in their studies. \nEid-ul-Fitr also highlights the importance of empathy\, charity\, and community. The festival encourages individuals to give back to those in need\, reinforcing values of kindness and social responsibility. At Bharat Academy & Sciences\, we believe in the power of education to shape not only academic excellence but also character. Eid reminds us to approach our education with a sense of responsibility\, using our knowledge and skills to help others and make a positive impact in the world. \nAdditionally\, Eid is a celebration of unity and togetherness. In an educational setting\, it encourages collaboration\, respect for diverse perspectives\, and the creation of an inclusive environment where all individuals\, regardless of background\, are valued. It is a reminder that our collective strength comes from our shared values and mutual respect. \nAs we celebrate Eid-ul-Fitr\, let it inspire us to work hard\, be disciplined\, and support one another—both academically and in our personal growth. \nEid Mubarak to all!
URL:https://bharatacademyandsciences.org/event/id-ul-fitr-holiday/
CATEGORIES:Holidays
ATTACH;FMTTYPE=image/png:https://bharatacademyandsciences.org/wp-content/uploads/2024/05/Screenshot-2025-04-02-192253.png
END:VEVENT
BEGIN:VEVENT
DTSTART;VALUE=DATE:20250109
DTEND;VALUE=DATE:20250110
DTSTAMP:20260423T202735
CREATED:20240515T083706Z
LAST-MODIFIED:20240515T083706Z
UID:10000096-1736380800-1736467199@bharatacademyandsciences.org
SUMMARY:Youth Week Celebration
DESCRIPTION:
URL:https://bharatacademyandsciences.org/event/youth-week-celebration/
CATEGORIES:Holidays
END:VEVENT
BEGIN:VEVENT
DTSTART;VALUE=DATE:20250103
DTEND;VALUE=DATE:20250104
DTSTAMP:20260423T202735
CREATED:20240515T083535Z
LAST-MODIFIED:20240515T083535Z
UID:10000095-1735862400-1735948799@bharatacademyandsciences.org
SUMMARY:School Reopens After Winter Vacation / Unit Test For Second Term [Classes I –IX]/ Pre Board Examination [Classes X & XII]
DESCRIPTION:
URL:https://bharatacademyandsciences.org/event/school-reopens-after-winter-vacation-unit-test-for-second-term-classes-i-ix-pre-board-examination-classes-x-xii/
CATEGORIES:Holidays
END:VEVENT
BEGIN:VEVENT
DTSTART;VALUE=DATE:20250101
DTEND;VALUE=DATE:20250102
DTSTAMP:20260423T202735
CREATED:20240515T082911Z
LAST-MODIFIED:20240515T082911Z
UID:10000094-1735689600-1735775999@bharatacademyandsciences.org
SUMMARY:New Year Day
DESCRIPTION:
URL:https://bharatacademyandsciences.org/event/new-year-day/
CATEGORIES:Holidays
END:VEVENT
BEGIN:VEVENT
DTSTART;VALUE=DATE:20241225
DTEND;VALUE=DATE:20241226
DTSTAMP:20260423T202735
CREATED:20240514T125720Z
LAST-MODIFIED:20240514T125720Z
UID:10000093-1735084800-1735171199@bharatacademyandsciences.org
SUMMARY:Christmas / Winter Vacation Begins
DESCRIPTION:
URL:https://bharatacademyandsciences.org/event/christmas-winter-vacation-begins/
CATEGORIES:Cermony,Holidays
END:VEVENT
BEGIN:VEVENT
DTSTART;VALUE=DATE:20241221
DTEND;VALUE=DATE:20241222
DTSTAMP:20260423T202735
CREATED:20240514T125223Z
LAST-MODIFIED:20240514T125223Z
UID:10000090-1734739200-1734825599@bharatacademyandsciences.org
SUMMARY:Winter Vacation Begins
DESCRIPTION:
URL:https://bharatacademyandsciences.org/event/winter-vacation-begins/
CATEGORIES:Holidays
END:VEVENT
BEGIN:VEVENT
DTSTART;VALUE=DATE:20241115
DTEND;VALUE=DATE:20241116
DTSTAMP:20260423T202736
CREATED:20240514T123443Z
LAST-MODIFIED:20251029T123753Z
UID:10000087-1731628800-1731715199@bharatacademyandsciences.org
SUMMARY:Guru Nanak Jayanti - Holiday
DESCRIPTION:
URL:https://bharatacademyandsciences.org/event/guru-nanak-jayanti-holiday/
CATEGORIES:Holidays
ATTACH;FMTTYPE=image/jpeg:https://bharatacademyandsciences.org/wp-content/uploads/2024/05/Guru-Nanak-Jayanti.jpg
END:VEVENT
BEGIN:VEVENT
DTSTART;VALUE=DATE:20241103
DTEND;VALUE=DATE:20241104
DTSTAMP:20260423T202736
CREATED:20240514T122828Z
LAST-MODIFIED:20240514T122828Z
UID:10000084-1730592000-1730678399@bharatacademyandsciences.org
SUMMARY:Bhatridwitya
DESCRIPTION:
URL:https://bharatacademyandsciences.org/event/bhatridwitya/
CATEGORIES:Holidays
END:VEVENT
BEGIN:VEVENT
DTSTART;VALUE=DATE:20241101
DTEND;VALUE=DATE:20241102
DTSTAMP:20260423T202736
CREATED:20240514T122602Z
LAST-MODIFIED:20240514T122602Z
UID:10000083-1730419200-1730505599@bharatacademyandsciences.org
SUMMARY:Diwali Break
DESCRIPTION:
URL:https://bharatacademyandsciences.org/event/diwali-break/
CATEGORIES:Holidays
END:VEVENT
BEGIN:VEVENT
DTSTART;VALUE=DATE:20241018
DTEND;VALUE=DATE:20241019
DTSTAMP:20260423T202736
CREATED:20240514T122158Z
LAST-MODIFIED:20240514T122158Z
UID:10000080-1729209600-1729295999@bharatacademyandsciences.org
SUMMARY:School Reopens
DESCRIPTION:
URL:https://bharatacademyandsciences.org/event/school-reopens/
CATEGORIES:Holidays
END:VEVENT
BEGIN:VEVENT
DTSTART;VALUE=DATE:20241017
DTEND;VALUE=DATE:20241018
DTSTAMP:20260423T202736
CREATED:20240514T122103Z
LAST-MODIFIED:20240514T122103Z
UID:10000079-1729123200-1729209599@bharatacademyandsciences.org
SUMMARY:Lakshmi Puja
DESCRIPTION:
URL:https://bharatacademyandsciences.org/event/lakshmi-puja/
CATEGORIES:Holidays
END:VEVENT
BEGIN:VEVENT
DTSTART;VALUE=DATE:20241011
DTEND;VALUE=DATE:20241012
DTSTAMP:20260423T202736
CREATED:20240514T113239Z
LAST-MODIFIED:20240514T113239Z
UID:10000078-1728604800-1728691199@bharatacademyandsciences.org
SUMMARY:Puja Vacation
DESCRIPTION:
URL:https://bharatacademyandsciences.org/event/puja-vacation/
CATEGORIES:Holidays
END:VEVENT
BEGIN:VEVENT
DTSTART;VALUE=DATE:20241008
DTEND;VALUE=DATE:20241009
DTSTAMP:20260423T202736
CREATED:20240514T113121Z
LAST-MODIFIED:20240514T113121Z
UID:10000077-1728345600-1728431999@bharatacademyandsciences.org
SUMMARY:Puja Vacation Begins
DESCRIPTION:
URL:https://bharatacademyandsciences.org/event/puja-vacation-begins/
CATEGORIES:Holidays
END:VEVENT
BEGIN:VEVENT
DTSTART;VALUE=DATE:20240917
DTEND;VALUE=DATE:20240918
DTSTAMP:20260423T202736
CREATED:20240510T032101Z
LAST-MODIFIED:20240514T105329Z
UID:10000071-1726531200-1726617599@bharatacademyandsciences.org
SUMMARY:Viswakarma Puja
DESCRIPTION:
URL:https://bharatacademyandsciences.org/event/viswakarma-puja/
CATEGORIES:Holidays
END:VEVENT
BEGIN:VEVENT
DTSTART;VALUE=DATE:20240916
DTEND;VALUE=DATE:20240917
DTSTAMP:20260423T202736
CREATED:20240510T031952Z
LAST-MODIFIED:20240514T105403Z
UID:10000070-1726444800-1726531199@bharatacademyandsciences.org
SUMMARY:MILAD-UL-NABI  Holiday
DESCRIPTION:
URL:https://bharatacademyandsciences.org/event/milad-ul-nabi-holiday/
CATEGORIES:Holidays
END:VEVENT
BEGIN:VEVENT
DTSTART;VALUE=DATE:20240826
DTEND;VALUE=DATE:20240827
DTSTAMP:20260423T202736
CREATED:20240510T012725Z
LAST-MODIFIED:20240624T154959Z
UID:10000064-1724630400-1724716799@bharatacademyandsciences.org
SUMMARY:Janmashtami Holiday
DESCRIPTION:
URL:https://bharatacademyandsciences.org/event/janmashtami-holiday/
CATEGORIES:Holidays
ATTACH;FMTTYPE=image/jpeg:https://bharatacademyandsciences.org/wp-content/uploads/2022/08/JONMASTOMI.jpg
END:VEVENT
BEGIN:VEVENT
DTSTART;VALUE=DATE:20240717
DTEND;VALUE=DATE:20240718
DTSTAMP:20260423T202736
CREATED:20240510T011950Z
LAST-MODIFIED:20240513T184806Z
UID:10000057-1721174400-1721260799@bharatacademyandsciences.org
SUMMARY:Muharram Holiday
DESCRIPTION:
URL:https://bharatacademyandsciences.org/event/muhharam-holiday/
CATEGORIES:Holidays
END:VEVENT
BEGIN:VEVENT
DTSTART;VALUE=DATE:20240707
DTEND;VALUE=DATE:20240708
DTSTAMP:20260423T202736
CREATED:20240510T011649Z
LAST-MODIFIED:20240513T184535Z
UID:10000054-1720310400-1720396799@bharatacademyandsciences.org
SUMMARY:Rath Yatra
DESCRIPTION:
URL:https://bharatacademyandsciences.org/event/rath-yatra/
CATEGORIES:Cermony,Holidays
END:VEVENT
BEGIN:VEVENT
DTSTART;VALUE=DATE:20240621
DTEND;VALUE=DATE:20240622
DTSTAMP:20260423T202736
CREATED:20230615T093337Z
LAST-MODIFIED:20240624T155540Z
UID:10000039-1718928000-1719014399@bharatacademyandsciences.org
SUMMARY:World Music Day and Yoga Day Celebration
DESCRIPTION: 
URL:https://bharatacademyandsciences.org/event/world-music-day-and-yoga-day-celebration/
LOCATION:Bharat Academy & Science\, Banitabla\, Uluberia\, Howrah\, Off N.H. 16\, Banitabla\,Uluberia Howrah\, West Bengal\, 711316
CATEGORIES:Holidays
ATTACH;FMTTYPE=image/jpeg:https://bharatacademyandsciences.org/wp-content/uploads/2022/08/Music-day.jpg
END:VEVENT
BEGIN:VEVENT
DTSTART;VALUE=DATE:20240617
DTEND;VALUE=DATE:20240618
DTSTAMP:20260423T202736
CREATED:20240510T011154Z
LAST-MODIFIED:20240513T183504Z
UID:10000049-1718582400-1718668799@bharatacademyandsciences.org
SUMMARY:ID-UL-ZOHA Holiday
DESCRIPTION:
URL:https://bharatacademyandsciences.org/event/id-ul-zoha-holiday/
CATEGORIES:Holidays
END:VEVENT
BEGIN:VEVENT
DTSTART;VALUE=DATE:20240604
DTEND;VALUE=DATE:20240605
DTSTAMP:20260423T202736
CREATED:20240510T010842Z
LAST-MODIFIED:20240513T181517Z
UID:10000045-1717459200-1717545599@bharatacademyandsciences.org
SUMMARY:School Reopens For Students [Nursery to Class VIII] / Unit Test Begins
DESCRIPTION:
URL:https://bharatacademyandsciences.org/event/school-reopens-for-students-nursery-to-clas-viii-unit-test-begins/
CATEGORIES:Holidays
END:VEVENT
END:VCALENDAR