BEGIN:VCALENDAR
VERSION:2.0
PRODID:-//urschard - ECPv6.5.1.4//NONSGML v1.0//EN
CALSCALE:GREGORIAN
METHOD:PUBLISH
X-WR-CALNAME:urschard
X-ORIGINAL-URL:https://bharatacademyandsciences.org
X-WR-CALDESC:Events for urschard
REFRESH-INTERVAL;VALUE=DURATION:PT1H
X-Robots-Tag:noindex
X-PUBLISHED-TTL:PT1H
BEGIN:VTIMEZONE
TZID:UTC
BEGIN:STANDARD
TZOFFSETFROM:+0000
TZOFFSETTO:+0000
TZNAME:UTC
DTSTART:20250101T000000
END:STANDARD
END:VTIMEZONE
BEGIN:VEVENT
DTSTART;VALUE=DATE:20251221
DTEND;VALUE=DATE:20260105
DTSTAMP:20260424T002848
CREATED:20250317T121205Z
LAST-MODIFIED:20251226T180019Z
UID:10000193-1766275200-1767571199@bharatacademyandsciences.org
SUMMARY:WINTER VACATION BEGINS FOR STUDENTS
DESCRIPTION:Dear Students\, \nThe much-awaited Winter Vacation is finally here! 🌟🎉 It’s time to relax\, recharge\, and enjoy the cozy vibes of the season. ❄️🧣 Whether you spend your days with a good book\, enjoying outdoor activities\, or spending quality time with family\, make the most of this well-deserved break! 📚❤️ \nWinter is the perfect time to reflect\, unwind\, and come back with fresh energy and new ideas for the next term! 🌱✨ \nEnjoy the holidays\, stay safe\, and we look forward to seeing you back with bright smiles and renewed enthusiasm! 😊🌸 \nWarm regards\,The Management TeamBharat Academy & Sciences 🌼
URL:https://bharatacademyandsciences.org/event/winter-vacation-begins-for-students/
CATEGORIES:Holidays
ATTACH;FMTTYPE=image/png:https://bharatacademyandsciences.org/wp-content/uploads/2025/03/Winter-Vacation.png
END:VEVENT
BEGIN:VEVENT
DTSTART;VALUE=DATE:20251224
DTEND;VALUE=DATE:20260103
DTSTAMP:20260424T002848
CREATED:20250317T121515Z
LAST-MODIFIED:20251226T180247Z
UID:10000194-1766534400-1767398399@bharatacademyandsciences.org
SUMMARY:WINTER VACATION BEGINS FOR TEACHERS
DESCRIPTION:Dear Teachers\, \nThe Winter Vacation has arrived\, giving you the perfect opportunity to relax\, recharge\, and enjoy some well-deserved rest after a busy term! 🌟☕️ It’s a time to reflect\, unwind\, and prepare for the exciting challenges ahead. 🌱✨ \nMay this vacation bring you peace\, warmth\, and joy\, allowing you to return with renewed energy and fresh ideas for the upcoming term. 🌸💖 \nEnjoy the holidays\, stay cozy\, and take this time to do what makes you happiest! ❄️🎉 \nWarm regards\,The Management TeamBharat Academy & Sciences 🌼
URL:https://bharatacademyandsciences.org/event/winter-vacation-begins-for-teachers/
CATEGORIES:Holidays
ATTACH;FMTTYPE=image/png:https://bharatacademyandsciences.org/wp-content/uploads/2025/03/Winter-Vacation.png
END:VEVENT
END:VCALENDAR