BEGIN:VCALENDAR
VERSION:2.0
PRODID:-//urschard - ECPv6.5.1.4//NONSGML v1.0//EN
CALSCALE:GREGORIAN
METHOD:PUBLISH
X-WR-CALNAME:urschard
X-ORIGINAL-URL:https://bharatacademyandsciences.org
X-WR-CALDESC:Events for urschard
REFRESH-INTERVAL;VALUE=DURATION:PT1H
X-Robots-Tag:noindex
X-PUBLISHED-TTL:PT1H
BEGIN:VTIMEZONE
TZID:UTC
BEGIN:STANDARD
TZOFFSETFROM:+0000
TZOFFSETTO:+0000
TZNAME:UTC
DTSTART:20250101T000000
END:STANDARD
END:VTIMEZONE
BEGIN:VEVENT
DTSTART;VALUE=DATE:20251020
DTEND;VALUE=DATE:20251023
DTSTAMP:20260424T045437
CREATED:20250317T080739Z
LAST-MODIFIED:20250806T080622Z
UID:10000178-1760918400-1761177599@bharatacademyandsciences.org
SUMMARY:VACATION FOR KAILI PUJA\, DEEPAWALI
DESCRIPTION:Dear Students\, Teachers\, and Staff\, \nAs we approach the festive season\, we are excited to announce a vacation in celebration of Kaili Puja\, Deepawali\, and Bhai Phonta! 🪔🎉 \nKaili Puja marks a day of devotion and gratitude\, celebrating the goddess’s blessings in our lives. 🙏🌼 Deepawali\, the Festival of Lights\, brings joy\, prosperity\, and the triumph of good over evil. Let’s light up our homes and hearts with love and positivity! 🕯️🌟 Bhai Phonta is a celebration of the special bond between brothers and sisters\, symbolizing love and protection. 💖👫 \nWe wish you all a joyful\, peaceful\, and safe festive season. May these festivals bring happiness\, prosperity\, and blessings to your lives. 🌸💫 \nWe look forward to welcoming you back after the holidays\, filled with energy and new inspiration! 🌼🎒 \nWarm regards\,The Management TeamBharat Academy & Sciences 🌼
URL:https://bharatacademyandsciences.org/event/vacation-for-kaili-puja-deepawali-bhai-phonta/
CATEGORIES:Holidays
ATTACH;FMTTYPE=image/jpeg:https://bharatacademyandsciences.org/wp-content/uploads/2025/03/Diwali-scaled.jpg
END:VEVENT
END:VCALENDAR