BEGIN:VCALENDAR
VERSION:2.0
PRODID:-//urschard - ECPv6.5.1.4//NONSGML v1.0//EN
CALSCALE:GREGORIAN
METHOD:PUBLISH
X-ORIGINAL-URL:https://bharatacademyandsciences.org
X-WR-CALDESC:Events for urschard
REFRESH-INTERVAL;VALUE=DURATION:PT1H
X-Robots-Tag:noindex
X-PUBLISHED-TTL:PT1H
BEGIN:VTIMEZONE
TZID:UTC
BEGIN:STANDARD
TZOFFSETFROM:+0000
TZOFFSETTO:+0000
TZNAME:UTC
DTSTART:20250101T000000
END:STANDARD
END:VTIMEZONE
BEGIN:VEVENT
DTSTART;VALUE=DATE:20251103
DTEND;VALUE=DATE:20251104
DTSTAMP:20260424T032527
CREATED:20250317T081557Z
LAST-MODIFIED:20251029T123611Z
UID:10000182-1762128000-1762214399@bharatacademyandsciences.org
SUMMARY:PRE-BOARDS BEGINS FOR CLASSES X & XII
DESCRIPTION:Dear Students\, \nThe time has arrived for the Pre-Boards for Classes X & XII! ✏️📖 These important assessments are a crucial step in preparing for your final exams. It’s a chance to assess your knowledge\, identify areas for improvement\, and boost your confidence as you approach the final leg of your academic journey. 🌟🎓 \nStay calm\, stay focused\, and give your best effort. 💪 Every question is an opportunity to showcase your hard work and dedication! 📚✨ \nWe believe in your potential and know you will make the most of this time to shine! 🌼💖 \nBest of luck to everyone\, stay positive\, and keep working hard! 🍀 \nWarm regards\,The Management TeamBharat Academy & Sciences 🌼
URL:https://bharatacademyandsciences.org/event/pre-boards-begins-for-classes-x-xii/
CATEGORIES:Examination
ATTACH;FMTTYPE=image/png:https://bharatacademyandsciences.org/wp-content/uploads/2025/03/Exam-Wishing-Preboard.png
END:VEVENT
END:VCALENDAR