BEGIN:VCALENDAR
VERSION:2.0
PRODID:-//urschard - ECPv6.5.1.4//NONSGML v1.0//EN
CALSCALE:GREGORIAN
METHOD:PUBLISH
X-ORIGINAL-URL:https://bharatacademyandsciences.org
X-WR-CALDESC:Events for urschard
REFRESH-INTERVAL;VALUE=DURATION:PT1H
X-Robots-Tag:noindex
X-PUBLISHED-TTL:PT1H
BEGIN:VTIMEZONE
TZID:UTC
BEGIN:STANDARD
TZOFFSETFROM:+0000
TZOFFSETTO:+0000
TZNAME:UTC
DTSTART:20240101T000000
END:STANDARD
END:VTIMEZONE
BEGIN:VEVENT
DTSTART;VALUE=DATE:20250411
DTEND;VALUE=DATE:20250412
DTSTAMP:20260423T231139
CREATED:20250315T145427Z
LAST-MODIFIED:20250402T141918Z
UID:10000121-1744329600-1744415999@bharatacademyandsciences.org
SUMMARY:Special Assembly on Dr. B R Ambedkar and Poila Baishakh
DESCRIPTION:Today\, our special assembly brings together two significant occasions—the birth anniversary of Dr. B. R. Ambedkar and the celebration of Poila Baishakh\, the Bengali New Year. Both events teach us invaluable lessons that shape our society and future. \nDr. B. R. Ambedkar – The Architect of the Indian Constitution\nDr. B. R. Ambedkar\, born on April 14\, 1891\, was a visionary leader\, social reformer\, and the chief architect of our Indian Constitution. He dedicated his life to equality\, education\, and justice\, ensuring that every citizen\, regardless of caste or background\, had the right to dignity and freedom. \nHis Teachings That Inspire Us:📖 Education is the greatest tool for empowerment.🕊️ Equality and respect for all create a just society.⚖️ Democracy thrives on justice and unity. \nAs students of Bharat Academy & Sciences\, we must embrace his vision by being responsible citizens\, respecting diversity\, and striving for excellence through education. \nPoila Baishakh – A New Beginning\nPoila Baishakh marks the Bengali New Year\, a festival of joy\, new aspirations\, and cultural pride. It teaches us the value of new beginnings\, hard work\, and unity. Just as farmers sow new seeds for a prosperous harvest\, we\, too\, must plant the seeds of knowledge\, kindness\, and perseverance for a brighter future. \n🎉 Lessons from Poila Baishakh:🌱 Every day is a chance for a fresh start.🤝 Unity in diversity makes our culture rich and vibrant.📚 Hard work and discipline lead to success. \nA Thought to Reflect Upon\n“Be educated\, be organized\, and be agitated.” – Dr. B. R. Ambedkar \nAs we celebrate today\, let us carry forward his vision and the spirit of Poila Baishakh by committing to education\, equality\, and growth in our lives. \n🌸 Shubho Nobo Borsho! Happy Ambedkar Jayanti! 🌸 \nBharat Academy & Sciences“Education with Values\, Learning with Purpose”
URL:https://bharatacademyandsciences.org/event/special-assembly-on-dr-b-r-ambedkar-and-poila-baishakh/
CATEGORIES:Cermony
ATTACH;FMTTYPE=image/png:https://bharatacademyandsciences.org/wp-content/uploads/2025/03/Screenshot-2025-04-02-195644.png
END:VEVENT
BEGIN:VEVENT
DTSTART;VALUE=DATE:20250409
DTEND;VALUE=DATE:20250410
DTSTAMP:20260423T231139
CREATED:20250315T143819Z
LAST-MODIFIED:20250402T132102Z
UID:10000119-1744156800-1744243199@bharatacademyandsciences.org
SUMMARY:Special Assembly on Mahavir Jayanti
DESCRIPTION:Today\, we gather here to celebrate Mahavir Jayanti\, the birth anniversary of Lord Mahavir\, the 24th Tirthankara of Jainism. His teachings of non-violence (Ahimsa)\, truth (Satya)\, and self-discipline (Tapas) continue to inspire millions around the world. \nThe Life of Lord Mahavir\nBorn in 599 BCE in Kundagrama (now in Bihar)\, Lord Mahavir renounced his princely life to seek spiritual enlightenment. Through deep meditation and self-discipline\, he attained Kevala Jnana (ultimate knowledge) and spread the message of peace\, compassion\, and righteousness. \nHis Teachings & Relevance Today\nLord Mahavir emphasized:🔹 Ahimsa (Non-violence): Respect all living beings and avoid harm.🔹 Satya (Truthfulness): Be honest and uphold integrity in every action.🔹 Asteya (Non-stealing): Never take what is not yours.🔹 Brahmacharya (Self-control): Control desires and live a disciplined life.🔹 Aparigraha (Non-possessiveness): Avoid greed and practice contentment. \nIn today’s world\, where conflicts and negativity often cloud our minds\, his message of kindness and harmony is more relevant than ever. \nA Thought to Reflect Upon\n“Live and let live.” – Lord MahavirLet us practice love\, patience\, and respect for all\, making our school and society a better place. \nMay the spirit of Mahavir Jayanti guide us to be compassionate\, honest\, and peaceful individuals. \n🌿 Happy Mahavir Jayanti! 🌿
URL:https://bharatacademyandsciences.org/event/special-assembly-on-mahavir-jayanti/
CATEGORIES:Cermony
ATTACH;FMTTYPE=image/png:https://bharatacademyandsciences.org/wp-content/uploads/2025/03/Screenshot-2025-04-02-185557.png
END:VEVENT
BEGIN:VEVENT
DTSTART;VALUE=DATE:20250317
DTEND;VALUE=DATE:20250318
DTSTAMP:20260423T231139
CREATED:20250314T154046Z
LAST-MODIFIED:20250603T103845Z
UID:10000115-1742169600-1742255999@bharatacademyandsciences.org
SUMMARY:New Session Begins for Class III- XII
DESCRIPTION:📢 New Session Begins! 🎉 \nWelcome to a brand-new academic year at Bharat Academy & Sciences! 🌟 We are excited to see our learners from Class – V to Class -XII step into a world of joy\, curiosity\, and discovery. \nLet’s make this year full of fun\, learning\, and new adventures! 🚀📚✨ \nWishing all our young stars a fantastic start! 🌈🎈
URL:https://bharatacademyandsciences.org/event/new-session-begins-for-class-v-xii/
CATEGORIES:Cermony
ATTACH;FMTTYPE=image/png:https://bharatacademyandsciences.org/wp-content/uploads/2025/03/New-session-Begins-1-1.png
END:VEVENT
BEGIN:VEVENT
DTSTART;VALUE=DATE:20250315
DTEND;VALUE=DATE:20250316
DTSTAMP:20260423T231139
CREATED:20240515T090128Z
LAST-MODIFIED:20250603T112814Z
UID:10000108-1741996800-1742083199@bharatacademyandsciences.org
SUMMARY:Holi - Holiday
DESCRIPTION:
URL:https://bharatacademyandsciences.org/event/holi-holiday/
CATEGORIES:Cermony
ATTACH;FMTTYPE=image/jpeg:https://bharatacademyandsciences.org/wp-content/uploads/2024/05/Holi.jpg
END:VEVENT
BEGIN:VEVENT
DTSTART;VALUE=DATE:20250314
DTEND;VALUE=DATE:20250315
DTSTAMP:20260423T231139
CREATED:20240515T090017Z
LAST-MODIFIED:20250603T112648Z
UID:10000107-1741910400-1741996799@bharatacademyandsciences.org
SUMMARY:Dol Jatra - Holiday
DESCRIPTION:
URL:https://bharatacademyandsciences.org/event/dol-jatra-holiday/
CATEGORIES:Cermony
ATTACH;FMTTYPE=image/jpeg:https://bharatacademyandsciences.org/wp-content/uploads/2024/05/DolYatra.jpg
END:VEVENT
BEGIN:VEVENT
DTSTART;TZID=UTC:20250310T080000
DTEND;TZID=UTC:20250312T170000
DTSTAMP:20260423T231139
CREATED:20250314T150350Z
LAST-MODIFIED:20250402T132424Z
UID:10000112-1741593600-1741798800@bharatacademyandsciences.org
SUMMARY:Orientation for new Session 2025-26
DESCRIPTION:Orientation Program for the New SessionBharat Academy & Sciences \nWelcome to a new academic session at Bharat Academy & Sciences! As we embark on another year of learning\, growth\, and excellence\, we extend a warm welcome to all our students\, parents\, and faculty members. \nOur Orientation Program is designed to introduce our students to the school’s values\, academic structure\, and extracurricular opportunities. It is an opportunity to familiarize them with the vibrant learning environment that fosters curiosity\, creativity\, and character building. \nThrough interactive sessions\, campus tours\, and engaging discussions\, we aim to ensure a smooth transition for all students into the new academic year. We encourage students to set new goals\, embrace challenges\, and make the most of the opportunities that lie ahead. \nLet’s make this year a remarkable journey of knowledge and success! \nWelcome to Bharat Academy & Sciences – Where Learning Meets Excellence!
URL:https://bharatacademyandsciences.org/event/welcome-to-bharat-academy-sciences-where-learning-meets-excellence/
CATEGORIES:Cermony
ATTACH;FMTTYPE=image/png:https://bharatacademyandsciences.org/wp-content/uploads/2025/03/Screenshot-2025-04-02-190119.png
END:VEVENT
BEGIN:VEVENT
DTSTART;VALUE=DATE:20250228
DTEND;VALUE=DATE:20250301
DTSTAMP:20260423T231139
CREATED:20240515T085832Z
LAST-MODIFIED:20250224T122134Z
UID:10000106-1740700800-1740787199@bharatacademyandsciences.org
SUMMARY:National Science Day
DESCRIPTION:
URL:https://bharatacademyandsciences.org/event/national-science-day/
CATEGORIES:Cermony
END:VEVENT
BEGIN:VEVENT
DTSTART;VALUE=DATE:20250222
DTEND;VALUE=DATE:20250223
DTSTAMP:20260423T231139
CREATED:20240515T085712Z
LAST-MODIFIED:20240515T085712Z
UID:10000105-1740182400-1740268799@bharatacademyandsciences.org
SUMMARY:World Scout Day
DESCRIPTION:
URL:https://bharatacademyandsciences.org/event/world-scout-day/
CATEGORIES:Cermony
END:VEVENT
BEGIN:VEVENT
DTSTART;VALUE=DATE:20250221
DTEND;VALUE=DATE:20250222
DTSTAMP:20260423T231139
CREATED:20240515T085425Z
LAST-MODIFIED:20240515T085425Z
UID:10000104-1740096000-1740182399@bharatacademyandsciences.org
SUMMARY:International Mother Language Day Celebration
DESCRIPTION:
URL:https://bharatacademyandsciences.org/event/international-mother-language-day-celebration/
CATEGORIES:Cermony
END:VEVENT
BEGIN:VEVENT
DTSTART;VALUE=DATE:20250214
DTEND;VALUE=DATE:20250215
DTSTAMP:20260423T231139
CREATED:20240515T085213Z
LAST-MODIFIED:20240515T085228Z
UID:10000103-1739491200-1739577599@bharatacademyandsciences.org
SUMMARY:'Moms Are Special' [Nursery To Class V] / 'Grammar Games‘ [Classes VI To XII]
DESCRIPTION:
URL:https://bharatacademyandsciences.org/event/moms-are-specialnursery-to-class-v-grammar-games-classes-vi-to-xii/
CATEGORIES:Cermony
END:VEVENT
BEGIN:VEVENT
DTSTART;VALUE=DATE:20250203
DTEND;VALUE=DATE:20250204
DTSTAMP:20260423T231139
CREATED:20240515T084914Z
LAST-MODIFIED:20250224T121129Z
UID:10000102-1738540800-1738627199@bharatacademyandsciences.org
SUMMARY:Saraswati Puja Celebration / Exhibition
DESCRIPTION:
URL:https://bharatacademyandsciences.org/event/saraswati-puja-celebration-exhibition/
CATEGORIES:Cermony
ATTACH;FMTTYPE=image/jpeg:https://bharatacademyandsciences.org/wp-content/uploads/2022/08/tulsidas-jayonti.jpg
END:VEVENT
BEGIN:VEVENT
DTSTART;VALUE=DATE:20250126
DTEND;VALUE=DATE:20250127
DTSTAMP:20260423T231139
CREATED:20240515T084658Z
LAST-MODIFIED:20240515T084658Z
UID:10000101-1737849600-1737935999@bharatacademyandsciences.org
SUMMARY:Republic Day Celebration
DESCRIPTION:
URL:https://bharatacademyandsciences.org/event/republic-day-celebration/
CATEGORIES:Cermony
END:VEVENT
BEGIN:VEVENT
DTSTART;VALUE=DATE:20250123
DTEND;VALUE=DATE:20250124
DTSTAMP:20260423T231139
CREATED:20240515T084527Z
LAST-MODIFIED:20240515T084527Z
UID:10000100-1737590400-1737676799@bharatacademyandsciences.org
SUMMARY:Netaji's Birthday
DESCRIPTION:
URL:https://bharatacademyandsciences.org/event/netajis-birthday/
CATEGORIES:Cermony
END:VEVENT
BEGIN:VEVENT
DTSTART;VALUE=DATE:20250122
DTEND;VALUE=DATE:20250123
DTSTAMP:20260423T231139
CREATED:20240515T084401Z
LAST-MODIFIED:20240515T084401Z
UID:10000099-1737504000-1737590399@bharatacademyandsciences.org
SUMMARY:House Activity On Netaji's Birthday
DESCRIPTION:
URL:https://bharatacademyandsciences.org/event/house-activity-on-netajis-birthday/
CATEGORIES:Cermony
END:VEVENT
BEGIN:VEVENT
DTSTART;VALUE=DATE:20250115
DTEND;VALUE=DATE:20250116
DTSTAMP:20260423T231139
CREATED:20240515T084207Z
LAST-MODIFIED:20240515T084207Z
UID:10000098-1736899200-1736985599@bharatacademyandsciences.org
SUMMARY:Indian Army Day
DESCRIPTION:
URL:https://bharatacademyandsciences.org/event/indian-army-day/
CATEGORIES:Cermony
END:VEVENT
BEGIN:VEVENT
DTSTART;VALUE=DATE:20250113
DTEND;VALUE=DATE:20250114
DTSTAMP:20260423T231139
CREATED:20240515T084020Z
LAST-MODIFIED:20240515T084051Z
UID:10000097-1736726400-1736812799@bharatacademyandsciences.org
SUMMARY:Swami Vivekananda's Birthday To Be Observed
DESCRIPTION:
URL:https://bharatacademyandsciences.org/event/swami-vivekanandas-birthday-to-be-observed/
CATEGORIES:Cermony
END:VEVENT
BEGIN:VEVENT
DTSTART;VALUE=DATE:20241225
DTEND;VALUE=DATE:20241226
DTSTAMP:20260423T231139
CREATED:20240514T125720Z
LAST-MODIFIED:20240514T125720Z
UID:10000093-1735084800-1735171199@bharatacademyandsciences.org
SUMMARY:Christmas / Winter Vacation Begins
DESCRIPTION:
URL:https://bharatacademyandsciences.org/event/christmas-winter-vacation-begins/
CATEGORIES:Cermony,Holidays
END:VEVENT
BEGIN:VEVENT
DTSTART;VALUE=DATE:20241224
DTEND;VALUE=DATE:20241225
DTSTAMP:20260423T231139
CREATED:20240514T125503Z
LAST-MODIFIED:20240514T125503Z
UID:10000092-1734998400-1735084799@bharatacademyandsciences.org
SUMMARY:Carnival
DESCRIPTION:
URL:https://bharatacademyandsciences.org/event/carnival/
CATEGORIES:Cermony
END:VEVENT
BEGIN:VEVENT
DTSTART;VALUE=DATE:20241222
DTEND;VALUE=DATE:20241223
DTSTAMP:20260423T231139
CREATED:20240514T125324Z
LAST-MODIFIED:20240514T125324Z
UID:10000091-1734825600-1734911999@bharatacademyandsciences.org
SUMMARY:National Mathematics Day
DESCRIPTION:
URL:https://bharatacademyandsciences.org/event/national-mathematics-day/
CATEGORIES:Cermony
END:VEVENT
BEGIN:VEVENT
DTSTART;VALUE=DATE:20241220
DTEND;VALUE=DATE:20241221
DTSTAMP:20260423T231139
CREATED:20240514T124407Z
LAST-MODIFIED:20240514T124952Z
UID:10000089-1734652800-1734739199@bharatacademyandsciences.org
SUMMARY:Annual Sports [Classes VI To XII]
DESCRIPTION:
URL:https://bharatacademyandsciences.org/event/annual-sports-classes-vi-to-xii/
CATEGORIES:Cermony
END:VEVENT
BEGIN:VEVENT
DTSTART;VALUE=DATE:20241213
DTEND;VALUE=DATE:20241214
DTSTAMP:20260423T231139
CREATED:20240514T123756Z
LAST-MODIFIED:20240514T123931Z
UID:10000088-1734048000-1734134399@bharatacademyandsciences.org
SUMMARY:Baking Activities [All Classes] / Annual Sports [Nursery To Class V]
DESCRIPTION:
URL:https://bharatacademyandsciences.org/event/baking-activities-all-classes-annual-sports-nursery-to-class-v/
CATEGORIES:Cermony
END:VEVENT
BEGIN:VEVENT
DTSTART;VALUE=DATE:20241114
DTEND;VALUE=DATE:20241115
DTSTAMP:20260423T231139
CREATED:20240514T123313Z
LAST-MODIFIED:20240514T123313Z
UID:10000086-1731542400-1731628799@bharatacademyandsciences.org
SUMMARY:Children's Day
DESCRIPTION:
URL:https://bharatacademyandsciences.org/event/childrens-day/
CATEGORIES:Cermony
END:VEVENT
BEGIN:VEVENT
DTSTART;VALUE=DATE:20241031
DTEND;VALUE=DATE:20241101
DTSTAMP:20260423T231139
CREATED:20240514T122436Z
LAST-MODIFIED:20240514T122436Z
UID:10000082-1730332800-1730419199@bharatacademyandsciences.org
SUMMARY:Diwali
DESCRIPTION:
URL:https://bharatacademyandsciences.org/event/diwali/
CATEGORIES:Cermony
END:VEVENT
BEGIN:VEVENT
DTSTART;VALUE=DATE:20241030
DTEND;VALUE=DATE:20241031
DTSTAMP:20260423T231139
CREATED:20240514T122323Z
LAST-MODIFIED:20240514T122323Z
UID:10000081-1730246400-1730332799@bharatacademyandsciences.org
SUMMARY:Kali Puja
DESCRIPTION:
URL:https://bharatacademyandsciences.org/event/kali-puja/
CATEGORIES:Cermony
END:VEVENT
BEGIN:VEVENT
DTSTART;VALUE=DATE:20241007
DTEND;VALUE=DATE:20241008
DTSTAMP:20260423T231139
CREATED:20240514T112909Z
LAST-MODIFIED:20240514T112909Z
UID:10000076-1728259200-1728345599@bharatacademyandsciences.org
SUMMARY:Agomani Celebration
DESCRIPTION:
URL:https://bharatacademyandsciences.org/event/agomani-celebration/
CATEGORIES:Cermony
END:VEVENT
BEGIN:VEVENT
DTSTART;VALUE=DATE:20241003
DTEND;VALUE=DATE:20241004
DTSTAMP:20260423T231139
CREATED:20240514T112732Z
LAST-MODIFIED:20240514T112732Z
UID:10000075-1727913600-1727999999@bharatacademyandsciences.org
SUMMARY:House Activity on Gandhi Jayanti [Nursery To Class VII] & Ozone Day [Classes VIII To XII]
DESCRIPTION:
URL:https://bharatacademyandsciences.org/event/house-activity-on-gandhi-jayanti-nursery-to-class-vii-ozone-day-classes-viii-to-xii/
CATEGORIES:Cermony
END:VEVENT
BEGIN:VEVENT
DTSTART;VALUE=DATE:20241002
DTEND;VALUE=DATE:20241003
DTSTAMP:20260423T231139
CREATED:20240514T112456Z
LAST-MODIFIED:20240514T112534Z
UID:10000074-1727827200-1727913599@bharatacademyandsciences.org
SUMMARY:Gandhi Jayanti / Mahalaya
DESCRIPTION:
URL:https://bharatacademyandsciences.org/event/gandhi-jayanti-mahalaya/
CATEGORIES:Cermony
END:VEVENT
BEGIN:VEVENT
DTSTART;VALUE=DATE:20240913
DTEND;VALUE=DATE:20240914
DTSTAMP:20260423T231139
CREATED:20240510T031819Z
LAST-MODIFIED:20240514T105503Z
UID:10000069-1726185600-1726271999@bharatacademyandsciences.org
SUMMARY:Hindi Diwas Celebration [Classes III To XII]
DESCRIPTION:
URL:https://bharatacademyandsciences.org/event/hindi-diwas-celebration-classes-iii-to-xii/
CATEGORIES:Cermony
END:VEVENT
BEGIN:VEVENT
DTSTART;VALUE=DATE:20240910
DTEND;VALUE=DATE:20240911
DTSTAMP:20260423T231139
CREATED:20240510T031706Z
LAST-MODIFIED:20240514T105609Z
UID:10000068-1725926400-1726012799@bharatacademyandsciences.org
SUMMARY:Grandparent's Day Celebration
DESCRIPTION:
URL:https://bharatacademyandsciences.org/event/grandparents-day-celebration/
CATEGORIES:Cermony
END:VEVENT
BEGIN:VEVENT
DTSTART;VALUE=DATE:20240908
DTEND;VALUE=DATE:20240909
DTSTAMP:20260423T231139
CREATED:20240510T031637Z
LAST-MODIFIED:20240514T105714Z
UID:10000067-1725753600-1725839999@bharatacademyandsciences.org
SUMMARY:National Literacy Day / English Drama Competition
DESCRIPTION:
URL:https://bharatacademyandsciences.org/event/national-literacy-day-english-drama-competition/
CATEGORIES:Cermony
END:VEVENT
END:VCALENDAR