BEGIN:VCALENDAR
VERSION:2.0
PRODID:-//urschard - ECPv6.5.1.4//NONSGML v1.0//EN
CALSCALE:GREGORIAN
METHOD:PUBLISH
X-WR-CALNAME:urschard
X-ORIGINAL-URL:https://bharatacademyandsciences.org
X-WR-CALDESC:Events for urschard
REFRESH-INTERVAL;VALUE=DURATION:PT1H
X-Robots-Tag:noindex
X-PUBLISHED-TTL:PT1H
BEGIN:VTIMEZONE
TZID:UTC
BEGIN:STANDARD
TZOFFSETFROM:+0000
TZOFFSETTO:+0000
TZNAME:UTC
DTSTART:20260101T000000
END:STANDARD
END:VTIMEZONE
BEGIN:VEVENT
DTSTART;VALUE=DATE:20260126
DTEND;VALUE=DATE:20260127
DTSTAMP:20260424T002653
CREATED:20250317T122823Z
LAST-MODIFIED:20251226T182146Z
UID:10000203-1769385600-1769471999@bharatacademyandsciences.org
SUMMARY:REPUBLIC DAY CELEBRATION (Bagless Day 13)
DESCRIPTION:Dear Students\, \nOn this proud occasion of Republic Day\, we come together to celebrate the spirit of democracy\, unity\, and freedom that defines our great nation\, India. 🇮🇳✨ This special day marks the adoption of our Constitution\, which stands as a symbol of our rights and responsibilities as citizens. 📜💖 \nJoin us in our Republic Day Celebration where we will honor the achievements of our country and pay tribute to the leaders who fought for our freedom. The festivities will include a flag hoisting ceremony\, cultural performances\, and a reflection on what it means to be a part of this vibrant nation. 🎉🌟 \nLet’s embrace the ideals of justice\, equality\, and brotherhood as we celebrate this national holiday! 🇮🇳🎶 \nWarm regards\,The Management TeamBharat Academy & Sciences 🌼
URL:https://bharatacademyandsciences.org/event/republic-day-celebration-bagless-day-13/
CATEGORIES:Cermony
ATTACH;FMTTYPE=image/png:https://bharatacademyandsciences.org/wp-content/uploads/2025/03/Republic-Day.png
END:VEVENT
END:VCALENDAR